BEGIN:VCALENDAR
VERSION:2.0
PRODID:-//Gratis Uppsala - ECPv5.2.1//NONSGML v1.0//EN
CALSCALE:GREGORIAN
METHOD:PUBLISH
X-WR-CALNAME:Gratis Uppsala
X-ORIGINAL-URL:https://arkiv.gratisuppsala.se
X-WR-CALDESC:Händelser för Gratis Uppsala
BEGIN:VTIMEZONE
TZID:Europe/Stockholm
BEGIN:DAYLIGHT
TZOFFSETFROM:+0100
TZOFFSETTO:+0200
TZNAME:CEST
DTSTART:20160327T010000
END:DAYLIGHT
BEGIN:STANDARD
TZOFFSETFROM:+0200
TZOFFSETTO:+0100
TZNAME:CET
DTSTART:20161030T010000
END:STANDARD
END:VTIMEZONE
BEGIN:VEVENT
DTSTART;TZID=Europe/Stockholm:20161008T123000
DTEND;TZID=Europe/Stockholm:20161008T133000
DTSTAMP:20260419T185149
CREATED:20161007T074320Z
LAST-MODIFIED:20161007T074320Z
UID:8757-1475929800-1475933400@arkiv.gratisuppsala.se
SUMMARY:"100!" Ett fotoprojekt av journalisten och fotografen Carl von Scheele
DESCRIPTION:Möt några svenska 100-åringar från Enköping\, Bålsta\, Sala och övriga Sverige. Fotografen och reportern Carl von Scheele berättar om sitt fotoprojekt ”100!”\, som blev en utställning och en bok med porträtt av några spännande personer från 1910-talsgenerationen i ord och bild. \nNär: 8 oktober kl 11.30-12.30 \nVar: Kyrkans hus i Fjärdhundra\, Enköping \n  \nBild från pixabay.se \nDela evenemanget
URL:https://arkiv.gratisuppsala.se/event/100-ett-fotoprojekt-av-journalisten-och-fotografen-carl-von-scheele/
LOCATION:Kyrkans hus\,  Simtuna Klockargård\, Fjärdhundra\, Enköping\, 74971\, Sverige
ATTACH;FMTTYPE=image/jpeg:https://arkiv.gratisuppsala.se/wp-content/uploads/2016/10/Skriva-bok.jpg
END:VEVENT
END:VCALENDAR