BEGIN:VCALENDAR
VERSION:2.0
PRODID:-//Gratis Uppsala - ECPv5.2.1//NONSGML v1.0//EN
CALSCALE:GREGORIAN
METHOD:PUBLISH
X-WR-CALNAME:Gratis Uppsala
X-ORIGINAL-URL:https://arkiv.gratisuppsala.se
X-WR-CALDESC:Händelser för Gratis Uppsala
BEGIN:VTIMEZONE
TZID:Europe/Stockholm
BEGIN:DAYLIGHT
TZOFFSETFROM:+0100
TZOFFSETTO:+0200
TZNAME:CEST
DTSTART:20170326T010000
END:DAYLIGHT
BEGIN:STANDARD
TZOFFSETFROM:+0200
TZOFFSETTO:+0100
TZNAME:CET
DTSTART:20171029T010000
END:STANDARD
END:VTIMEZONE
BEGIN:VEVENT
DTSTART;TZID=Europe/Stockholm:20170403T200000
DTEND;TZID=Europe/Stockholm:20170403T200000
DTSTAMP:20260419T215114
CREATED:20170324T141925Z
LAST-MODIFIED:20170330T113725Z
UID:12838-1491249600-1491249600@arkiv.gratisuppsala.se
SUMMARY:Nyfiken på Adelaida Caballero
DESCRIPTION:Uppsala Författarsällskap bjuder in\nKom och träffa poeten\, doktoranden och tryckfrihetsgudinnan Adelaida Caballero på Walmstedtska gården. \nAlla är välkomna! \nTid och plats\nMåndag 3 april kl 19:00\nWalmstedtska gården \nBild:www.ergo.nu \nDela evenemanget
URL:https://arkiv.gratisuppsala.se/event/12838/
LOCATION:Sysslomansgatan 1\, Sysslomansgatan 1\, Uppsala\, 753 10\, Sverige
CATEGORIES:Föreläsning och Kurs
ATTACH;FMTTYPE=image/jpeg:https://arkiv.gratisuppsala.se/wp-content/uploads/2017/03/picture004-150x150.jpg
GEO:59.8592443;17.6323505
X-APPLE-STRUCTURED-LOCATION;VALUE=URI;X-ADDRESS=Sysslomansgatan 1 Sysslomansgatan 1 Uppsala 753 10 Sverige;X-APPLE-RADIUS=500;X-TITLE=Sysslomansgatan 1:geo:17.6323505,59.8592443
END:VEVENT
END:VCALENDAR