BEGIN:VCALENDAR
VERSION:2.0
PRODID:-//Gratis Uppsala - ECPv5.2.1//NONSGML v1.0//EN
CALSCALE:GREGORIAN
METHOD:PUBLISH
X-WR-CALNAME:Gratis Uppsala
X-ORIGINAL-URL:https://arkiv.gratisuppsala.se
X-WR-CALDESC:Händelser för Gratis Uppsala
BEGIN:VTIMEZONE
TZID:Europe/Stockholm
BEGIN:DAYLIGHT
TZOFFSETFROM:+0100
TZOFFSETTO:+0200
TZNAME:CEST
DTSTART:20170326T010000
END:DAYLIGHT
BEGIN:STANDARD
TZOFFSETFROM:+0200
TZOFFSETTO:+0100
TZNAME:CET
DTSTART:20171029T010000
END:STANDARD
END:VTIMEZONE
BEGIN:VEVENT
DTSTART;TZID=Europe/Stockholm:20170703T110000
DTEND;TZID=Europe/Stockholm:20170703T180000
DTSTAMP:20260420T050519
CREATED:20170405T062844Z
LAST-MODIFIED:20170629T103710Z
UID:13120-1499079600-1499104800@arkiv.gratisuppsala.se
SUMMARY:Tusen trädgårdar i Knivsta
DESCRIPTION:Besök trädgårdar i Knivsta\nRiksförbundet Svensk Trädgård bjuder in till Tusen trädgårdar. \nMånga öppnar upp sin trädgård för allmänheten för en dag med trädgårdsglädje i fokus. \nLäs mer på www.tradgardsriket.se/tusen-tradgardar där kan man t.ex. se vilka trädgårdar i Knivsta med omnejd som välkomnar besökare. \nKnivstabygdens Trädgårdssällskap finns på plats med föreningsbord\, lotteri och kaffeservering. \nBild från pixabay.com \nDela evenemanget
URL:https://arkiv.gratisuppsala.se/event/13120/
LOCATION:Lyckträffen\, Faktorns gata 6\, Knivsata\, 741 40\, Sverige
CATEGORIES:Trädgård,Uppvisning
ATTACH;FMTTYPE=image/jpeg:https://arkiv.gratisuppsala.se/wp-content/uploads/2017/04/green-plant-2424205_640.jpg
GEO:59.7280155;17.7894837
X-APPLE-STRUCTURED-LOCATION;VALUE=URI;X-ADDRESS=Lyckträffen Faktorns gata 6 Knivsata 741 40 Sverige;X-APPLE-RADIUS=500;X-TITLE=Faktorns gata 6:geo:17.7894837,59.7280155
END:VEVENT
END:VCALENDAR