BEGIN:VCALENDAR
VERSION:2.0
PRODID:-//Gratis Uppsala - ECPv5.2.1//NONSGML v1.0//EN
CALSCALE:GREGORIAN
METHOD:PUBLISH
X-WR-CALNAME:Gratis Uppsala
X-ORIGINAL-URL:https://arkiv.gratisuppsala.se
X-WR-CALDESC:Händelser för Gratis Uppsala
BEGIN:VTIMEZONE
TZID:Europe/Stockholm
BEGIN:DAYLIGHT
TZOFFSETFROM:+0100
TZOFFSETTO:+0200
TZNAME:CEST
DTSTART:20170326T010000
END:DAYLIGHT
BEGIN:STANDARD
TZOFFSETFROM:+0200
TZOFFSETTO:+0100
TZNAME:CET
DTSTART:20171029T010000
END:STANDARD
END:VTIMEZONE
BEGIN:VEVENT
DTSTART;TZID=Europe/Stockholm:20170420T171500
DTEND;TZID=Europe/Stockholm:20170420T180000
DTSTAMP:20260420T141019
CREATED:20170419T112825Z
LAST-MODIFIED:20170419T113618Z
UID:13372-1492708500-1492711200@arkiv.gratisuppsala.se
SUMMARY:En kvart över med Gail Ramsay
DESCRIPTION:Välkommen till en öppen föreläsning inom Uppsala universitetsbiblioteks serie En kvart över. \nDen här gången med Gail Ramsay\, professor i arabiska på Institutionen för lingvistik och filologi\, Uppsala universitet. \n\nVad skrev fem populära egyptiska bloggare om under tiden strax före det folkliga upproret i januari 2011 när dåvarande presidenten Hosni Mubarak avsattes? \nI mitt föredrag visar jag hur bloggarnas berättelser hänger ihop med socialkritiska teman som framförts av egyptiska författare under decennier och frågar om och på vilka sätt bloggarna uppmanade till direkt agerande\, aktivism. \nJag visar att bloggandet tillät de egyptiska bloggarna att både idealisera och ge uttryck för sina drömmar å ena sidan och att kritisera regimen å den andra. \nSlutligen säger jag något om egyptiska bloggares och författares förhoppningar för och tankar om det egyptiska samhällets framtid. \nFöreläsningen är öppen för allmänheten. \nDet bjudes på dryck och tilltugg! \n\n Dela evenemanget
URL:https://arkiv.gratisuppsala.se/event/13372/
LOCATION:Engelska parken –  Karin Boye-biblioteket\, Thunbergsvägen 3\, Uppsala\, 752 38 \, Sverige
CATEGORIES:Föreläsning och Kurs
ATTACH;FMTTYPE=image/jpeg:https://arkiv.gratisuppsala.se/wp-content/uploads/2017/04/full_image.jpg
GEO:59.8537819;17.6248169
X-APPLE-STRUCTURED-LOCATION;VALUE=URI;X-ADDRESS=Engelska parken –  Karin Boye-biblioteket Thunbergsvägen 3 Uppsala 752 38  Sverige;X-APPLE-RADIUS=500;X-TITLE=Thunbergsvägen 3:geo:17.6248169,59.8537819
END:VEVENT
END:VCALENDAR