BEGIN:VCALENDAR
VERSION:2.0
PRODID:-//Gratis Uppsala - ECPv5.2.1//NONSGML v1.0//EN
CALSCALE:GREGORIAN
METHOD:PUBLISH
X-WR-CALNAME:Gratis Uppsala
X-ORIGINAL-URL:https://arkiv.gratisuppsala.se
X-WR-CALDESC:Händelser för Gratis Uppsala
BEGIN:VTIMEZONE
TZID:Europe/Stockholm
BEGIN:DAYLIGHT
TZOFFSETFROM:+0100
TZOFFSETTO:+0200
TZNAME:CEST
DTSTART:20170326T010000
END:DAYLIGHT
BEGIN:STANDARD
TZOFFSETFROM:+0200
TZOFFSETTO:+0100
TZNAME:CET
DTSTART:20171029T010000
END:STANDARD
END:VTIMEZONE
BEGIN:VEVENT
DTSTART;TZID=Europe/Stockholm:20170523T190000
DTEND;TZID=Europe/Stockholm:20170523T190000
DTSTAMP:20260420T193022
CREATED:20170515T105401Z
LAST-MODIFIED:20170515T105401Z
UID:13995-1495566000-1495566000@arkiv.gratisuppsala.se
SUMMARY:Hedersrelaterat förtryck och våld
DESCRIPTION:Föreläsning\nTisdag den 23 maj kl. 18.00 kommer My Hellberg från TRIS (Tjejers Rätt i Samhället) till Stadsbiblioteket och föreläser om den hedersrelaterade värdegrunden och dess uttryck bland ungdomar i Sverige. Många ungdomar lever idag med en hedersproblematik som begränsar deras livsval. \n\n\n\nBegränsat antal platser\, gratisbiljetter bokas i Stadsbibliotekets reception\, tel: 018-727 17 00\, och hämtas  ut senast 30 minuter före programmets start. \nBilden tillhör initcia.se \n\n Dela evenemanget
URL:https://arkiv.gratisuppsala.se/event/13995/
LOCATION:Stadsbiblioteket\, Svartbäcksgatan 17\, Uppsala\, 75320\, Sverige
CATEGORIES:Föreläsning och Kurs,Litteratur och Poesi,Samhälle
ATTACH;FMTTYPE=image/jpeg:https://arkiv.gratisuppsala.se/wp-content/uploads/2016/10/Stadsbiblioteket-entrén-1.jpg
ORGANIZER;CN="Folkr%C3%B6relsearkivet":MAILTO:info@fauppsala.se
GEO:59.8606206;17.6353278
X-APPLE-STRUCTURED-LOCATION;VALUE=URI;X-ADDRESS=Stadsbiblioteket Svartbäcksgatan 17 Uppsala 75320 Sverige;X-APPLE-RADIUS=500;X-TITLE=Svartbäcksgatan 17:geo:17.6353278,59.8606206
END:VEVENT
END:VCALENDAR