BEGIN:VCALENDAR
VERSION:2.0
PRODID:-//Gratis Uppsala - ECPv5.2.1//NONSGML v1.0//EN
CALSCALE:GREGORIAN
METHOD:PUBLISH
X-WR-CALNAME:Gratis Uppsala
X-ORIGINAL-URL:https://arkiv.gratisuppsala.se
X-WR-CALDESC:Händelser för Gratis Uppsala
BEGIN:VTIMEZONE
TZID:Europe/Stockholm
BEGIN:DAYLIGHT
TZOFFSETFROM:+0100
TZOFFSETTO:+0200
TZNAME:CEST
DTSTART:20170326T010000
END:DAYLIGHT
BEGIN:STANDARD
TZOFFSETFROM:+0200
TZOFFSETTO:+0100
TZNAME:CET
DTSTART:20171029T010000
END:STANDARD
END:VTIMEZONE
BEGIN:VEVENT
DTSTART;TZID=Europe/Stockholm:20171202T150000
DTEND;TZID=Europe/Stockholm:20171202T180000
DTSTAMP:20260420T143331
CREATED:20171120T105449Z
LAST-MODIFIED:20171120T105652Z
UID:20493-1512226800-1512237600@arkiv.gratisuppsala.se
SUMMARY:Julmarknad på torget i Östervåla 2017!
DESCRIPTION:Julmarknad på torget i Östervåla 2017!\n\n\n\nNär:Lördag 2 december 15:00 – 18:00\n\nPlats:Östervåla torg och Östervåla bibliotek\n\n\n\n\n– Granen tänds\n\n– Levande krubba- Min färg – vernissage på biblioteket \n– Konstnärsföreningen ställer ut på Fokus \n– Hantverkscentrum har konstutställning \n– Räddningstjänsten har öppet hus \n– Café på Fokus \n– Försäljning på torget och i lokala butiker \n– Träffa tomten… \nVälkomna! \nArr. Östervåla bibliotek\, Östervåla hantverkscentrum\, Svenska kyrkan\, Equmeniakyrkan. \nBild från Pixabay.com \n\n\n\n Dela evenemanget
URL:https://arkiv.gratisuppsala.se/event/20493/
LOCATION:Östervåla torg\, Stora Torget 3\, Östervåla\, 74046\, Sverige
CATEGORIES:Konst, Fotografi och Design,Marknad & Loppis
ATTACH;FMTTYPE=image/jpeg:https://arkiv.gratisuppsala.se/wp-content/uploads/2017/11/christmas-market-1719978_640.jpg
GEO:60.1813405;17.1814697
X-APPLE-STRUCTURED-LOCATION;VALUE=URI;X-ADDRESS=Östervåla torg Stora Torget 3 Östervåla 74046 Sverige;X-APPLE-RADIUS=500;X-TITLE=Stora Torget 3:geo:17.1814697,60.1813405
END:VEVENT
END:VCALENDAR