BEGIN:VCALENDAR
VERSION:2.0
PRODID:-//Gratis Uppsala - ECPv5.2.1//NONSGML v1.0//EN
CALSCALE:GREGORIAN
METHOD:PUBLISH
X-WR-CALNAME:Gratis Uppsala
X-ORIGINAL-URL:https://arkiv.gratisuppsala.se
X-WR-CALDESC:Händelser för Gratis Uppsala
BEGIN:VTIMEZONE
TZID:Europe/Stockholm
BEGIN:DAYLIGHT
TZOFFSETFROM:+0100
TZOFFSETTO:+0200
TZNAME:CEST
DTSTART:20170326T010000
END:DAYLIGHT
BEGIN:STANDARD
TZOFFSETFROM:+0200
TZOFFSETTO:+0100
TZNAME:CET
DTSTART:20171029T010000
END:STANDARD
END:VTIMEZONE
BEGIN:VEVENT
DTSTART;TZID=Europe/Stockholm:20171207T173000
DTEND;TZID=Europe/Stockholm:20171207T190000
DTSTAMP:20260420T113625
CREATED:20171123T105302Z
LAST-MODIFIED:20171123T105302Z
UID:20535-1512667800-1512673200@arkiv.gratisuppsala.se
SUMMARY:Informationsträff: God man
DESCRIPTION:Informationsträff: God man\nGör en insats! Hjälp en medmänniska till större trygghet och en lättare vardag. Som god man hjälper du till med räkningar\, vardagsekonomin och kontakten med myndigheter. \n\n\n\n\nNär:Torsdag 7 december 17:30 – 19:00\nPlats:Scenen Heby bibliotek\nKostnad:Gratis\n\n\n\nBild från Pixabay.com \n\n\n\n Dela evenemanget
URL:https://arkiv.gratisuppsala.se/event/20535/
CATEGORIES:Litteratur och Poesi,Samhälle,Vuxen
ATTACH;FMTTYPE=image/png:https://arkiv.gratisuppsala.se/wp-content/uploads/2017/11/puzzle-2651912_1280-e1511434361843.png
END:VEVENT
END:VCALENDAR