BEGIN:VCALENDAR
VERSION:2.0
PRODID:-//Gratis Uppsala - ECPv5.2.1//NONSGML v1.0//EN
CALSCALE:GREGORIAN
METHOD:PUBLISH
X-WR-CALNAME:Gratis Uppsala
X-ORIGINAL-URL:https://arkiv.gratisuppsala.se
X-WR-CALDESC:Händelser för Gratis Uppsala
BEGIN:VTIMEZONE
TZID:Europe/Stockholm
BEGIN:DAYLIGHT
TZOFFSETFROM:+0100
TZOFFSETTO:+0200
TZNAME:CEST
DTSTART:20170326T010000
END:DAYLIGHT
BEGIN:STANDARD
TZOFFSETFROM:+0200
TZOFFSETTO:+0100
TZNAME:CET
DTSTART:20171029T010000
END:STANDARD
END:VTIMEZONE
BEGIN:VEVENT
DTSTART;TZID=Europe/Stockholm:20171121T190000
DTEND;TZID=Europe/Stockholm:20171121T210000
DTSTAMP:20260420T112236
CREATED:20171121T094053Z
LAST-MODIFIED:20171121T094053Z
UID:20551-1511290800-1511298000@arkiv.gratisuppsala.se
SUMMARY:Är din värld hållbar?
DESCRIPTION:Är din värld hållbar?\n\n\n\n\n\n\n\n\nEn kväll med fokus på ett hållbart Uppsala \n\n\n\n\nVälkommen till en kväll med musik\, föreläsningar och panelsamtal. \n“Är din värld hållbar?” är ett arrangemang inom ramen för Kyrkornas globala vecka. Varje år uppmärksammar Sveriges Kristna Råd (SKR) globala frågor under en vecka och kyrkor och församlingar genomför arrangemang i hela landet. I år pågår Kyrkornas globala vecka 19-26 november. Årets tema är “Hållbar värld för alla”. \nMingel från 18.45. \nMEDVERKANDE\nIlona Szatmári Waldau\, kommunalråd\, ordförande i Uppsala Fairtrade City\nBertil Högberg\, Fairtrade-veteran\nMargaretha Svensson Paras\, chef och diakon\, Uppsala Stadsmission\nCajsa Johansson\, ägare och grundare av företaget Cajsas Kök \nMUSIK\nMartin Svensson \nMODERATOR\nKajsa Wejryd \n\n\n\n\n\nDATUM 2017-11-21 \n\nTID 19:00 – 21:00\n\nPRIS Gratis\n\n\n\n\nNewmaninstitutet\n\nTrädgårdsgatan 14\n\n75309 \nUppsala\n\n\n\n\n\nBild från Pixabay.com \n\n Dela evenemanget
URL:https://arkiv.gratisuppsala.se/event/20551/
CATEGORIES:Föreläsning och Kurs
ATTACH;FMTTYPE=image/png:https://arkiv.gratisuppsala.se/wp-content/uploads/2017/11/world-1303628_1280.png
ORGANIZER;CN="Studief%C3%B6rbundet%20Bilda%20Uppsala%20%C3%B6st":MAILTO:ost@bilda.nu
END:VEVENT
END:VCALENDAR