BEGIN:VCALENDAR
VERSION:2.0
PRODID:-//Gratis Uppsala - ECPv5.2.1//NONSGML v1.0//EN
CALSCALE:GREGORIAN
METHOD:PUBLISH
X-WR-CALNAME:Gratis Uppsala
X-ORIGINAL-URL:https://arkiv.gratisuppsala.se
X-WR-CALDESC:Händelser för Gratis Uppsala
BEGIN:VTIMEZONE
TZID:Europe/Stockholm
BEGIN:DAYLIGHT
TZOFFSETFROM:+0100
TZOFFSETTO:+0200
TZNAME:CEST
DTSTART:20170326T010000
END:DAYLIGHT
BEGIN:STANDARD
TZOFFSETFROM:+0200
TZOFFSETTO:+0100
TZNAME:CET
DTSTART:20171029T010000
END:STANDARD
END:VTIMEZONE
BEGIN:VEVENT
DTSTART;TZID=Europe/Stockholm:20171203T100000
DTEND;TZID=Europe/Stockholm:20171203T150000
DTSTAMP:20260421T092227
CREATED:20171128T101216Z
LAST-MODIFIED:20171128T110125Z
UID:20781-1512295200-1512313200@arkiv.gratisuppsala.se
SUMMARY:JULMARKNAD I HAMMARSKOG
DESCRIPTION:JULMARKNAD I HAMMARSKOG\n\n\n\n\nMarknadsförsäljning i området runt Herrgården. • Caféet kommer att ha öppet i Herrgården. • Verksamheterna i Hammarskog har öppet. • Ponnyridning i herrgårdsparken \n\n\n\n\n\nTid och plats\nSöndag 3 december kl. 10:00 – 15:00\nHammarskogs herrgård \n\nBild från Pixabay.com \nDela evenemanget
URL:https://arkiv.gratisuppsala.se/event/20781/
LOCATION:Hammarskogs Herrgård\, Hammarskog 95\, Uppsala\, 755 91\, Sverige
CATEGORIES:Marknad & Loppis
ATTACH;FMTTYPE=image/jpeg:https://arkiv.gratisuppsala.se/wp-content/uploads/2017/11/bremen-christmas-market-1084009_640.jpg
GEO:59.7694286;17.5618388
X-APPLE-STRUCTURED-LOCATION;VALUE=URI;X-ADDRESS=Hammarskogs Herrgård Hammarskog 95 Uppsala 755 91 Sverige;X-APPLE-RADIUS=500;X-TITLE=Hammarskog 95:geo:17.5618388,59.7694286
END:VEVENT
END:VCALENDAR