BEGIN:VCALENDAR
VERSION:2.0
PRODID:-//Gratis Uppsala - ECPv5.2.1//NONSGML v1.0//EN
CALSCALE:GREGORIAN
METHOD:PUBLISH
X-WR-CALNAME:Gratis Uppsala
X-ORIGINAL-URL:https://arkiv.gratisuppsala.se
X-WR-CALDESC:Händelser för Gratis Uppsala
BEGIN:VTIMEZONE
TZID:Europe/Stockholm
BEGIN:DAYLIGHT
TZOFFSETFROM:+0100
TZOFFSETTO:+0200
TZNAME:CEST
DTSTART:20180325T010000
END:DAYLIGHT
BEGIN:STANDARD
TZOFFSETFROM:+0200
TZOFFSETTO:+0100
TZNAME:CET
DTSTART:20181028T010000
END:STANDARD
END:VTIMEZONE
BEGIN:VEVENT
DTSTART;TZID=Europe/Stockholm:20180119T093000
DTEND;TZID=Europe/Stockholm:20180119T120000
DTSTAMP:20260420T162014
CREATED:20171214T104142Z
LAST-MODIFIED:20171214T104757Z
UID:21294-1516354200-1516363200@arkiv.gratisuppsala.se
SUMMARY:Till minne av Fadime Sahindal
DESCRIPTION:Till minne av Fadime Sahindal\n\n\nMariet Ghadimi\, grundaren av TRIS – tjejers rätt i samhället\, föreläser om hedersrelaterat förtyck och våld. \n\n\n\nTid och plats\nFredag 19 januari 09.30-12.00 \nStadsbiblioteket\, Mallas sal \nBiljetter\nGratisbiljetter bokas i Stadsbibliotekets reception\, tel: 018-727 17 00 eller via kundtjanst@bibliotekuppsala.se och hämtas senast 30 minuter före programmets start. \nI samarrangemang med TRIS – tjejers rätt i samhället. \n\nBild från commons.wikimedia.org \nDela evenemanget
URL:https://arkiv.gratisuppsala.se/event/21294/
LOCATION:Stadsbiblioteket\, Svartbäcksgatan 17
CATEGORIES:Föreläsning och Kurs,Samhälle
ATTACH;FMTTYPE=image/jpeg:https://arkiv.gratisuppsala.se/wp-content/uploads/2017/12/640px-Fadime_Sahindals_tombstone.jpg
GEO:59.8606206;17.6353278
X-APPLE-STRUCTURED-LOCATION;VALUE=URI;X-ADDRESS=Stadsbiblioteket Svartbäcksgatan 17;X-APPLE-RADIUS=500;X-TITLE=Svartbäcksgatan 17:geo:17.6353278,59.8606206
END:VEVENT
END:VCALENDAR