BEGIN:VCALENDAR
VERSION:2.0
PRODID:-//Gratis Uppsala - ECPv5.2.1//NONSGML v1.0//EN
CALSCALE:GREGORIAN
METHOD:PUBLISH
X-WR-CALNAME:Gratis Uppsala
X-ORIGINAL-URL:https://arkiv.gratisuppsala.se
X-WR-CALDESC:Händelser för Gratis Uppsala
BEGIN:VTIMEZONE
TZID:Europe/Stockholm
BEGIN:DAYLIGHT
TZOFFSETFROM:+0100
TZOFFSETTO:+0200
TZNAME:CEST
DTSTART:20180325T010000
END:DAYLIGHT
BEGIN:STANDARD
TZOFFSETFROM:+0200
TZOFFSETTO:+0100
TZNAME:CET
DTSTART:20181028T010000
END:STANDARD
END:VTIMEZONE
BEGIN:VEVENT
DTSTART;TZID=Europe/Stockholm:20180423T180000
DTEND;TZID=Europe/Stockholm:20180423T193000
DTSTAMP:20260419T173734
CREATED:20180216T122643Z
LAST-MODIFIED:20180216T122947Z
UID:22666-1524506400-1524511800@arkiv.gratisuppsala.se
SUMMARY:Civilkurageträning: Sexuellt ofredande under valborg
DESCRIPTION:Civilkurageträning: Sexuellt ofredande under valborg\n  \nTräna rollspel och forumspel med Vardagens Civilkurage för att lära dig att stoppa obehagliga situationer! \nSnart är det dags för valborgsfirande i Uppsala! De mest festliga dagarna på året! Men med fest och mycket folk kommer också annat och där ibland sexuellt ofredande. VAD kan man göra för stoppa det? HUR gör man när man ser en kompis tafsa eller bli tafsad på? Vad gör man när man ser en situation som känns i magen som “jag vill gå fram och kolla läget”? KOM OCH TRÄNA MED VARDAGENS CIVILKURAGE! \nANMÄL DIG HÄR! \nTräningen är GRATIS och är i skaterampen på Ungdomens Hus mellan 17:00 och 18.30. Deltagarna kör rollspel och forumspel för att testa olika sätt att stoppa obehagliga situationer. \nVardagens Civilkurage är en ungdomsorganisation som finansieras av Arvsfonden och driver verksamheten tillsammans med organisationen Centralasiengrupperna. I Uppsala hålls träningar tillsammans med Ungdomens hus\, Bilda och Uppsala kommun. \n  \nBild från pixabay.com \nDela evenemanget
URL:https://arkiv.gratisuppsala.se/event/22666/
LOCATION:Ungdomens Hus\, Svartbäcksgatan 32\, Uppsala\, 75332\, Sverige
CATEGORIES:Föreläsning och Kurs,Kropp och Själ,Kunskap och Lärande,Valborg
ATTACH;FMTTYPE=image/png:https://arkiv.gratisuppsala.se/wp-content/uploads/2018/02/stop-2717058_640.png
ORGANIZER;CN="Vardagens%20civilkurage":MAILTO:anna.dahl@vardagenscivilkurage.se
END:VEVENT
END:VCALENDAR