BEGIN:VCALENDAR
VERSION:2.0
PRODID:-//Gratis Uppsala - ECPv5.2.1//NONSGML v1.0//EN
CALSCALE:GREGORIAN
METHOD:PUBLISH
X-WR-CALNAME:Gratis Uppsala
X-ORIGINAL-URL:https://arkiv.gratisuppsala.se
X-WR-CALDESC:Händelser för Gratis Uppsala
BEGIN:VTIMEZONE
TZID:Europe/Stockholm
BEGIN:DAYLIGHT
TZOFFSETFROM:+0100
TZOFFSETTO:+0200
TZNAME:CEST
DTSTART:20150329T010000
END:DAYLIGHT
BEGIN:STANDARD
TZOFFSETFROM:+0200
TZOFFSETTO:+0100
TZNAME:CET
DTSTART:20151025T010000
END:STANDARD
END:VTIMEZONE
BEGIN:VEVENT
DTSTART;TZID=Europe/Stockholm:20151219T120000
DTEND;TZID=Europe/Stockholm:20151223T180000
DTSTAMP:20260420T054429
CREATED:20151209T133625Z
LAST-MODIFIED:20151214T171017Z
UID:5178-1450526400-1450893600@arkiv.gratisuppsala.se
SUMMARY:30 x 30 konstnärer x åtta
DESCRIPTION:30 x 30-gruppen har vernissage på Galleri Upsala med åtta olika konstnärer. \nUtställare: \nKarin Ellingson\, Katarina Ellingson\, Jeanette Fahlestål\, Carina Joelsson\, Ewa H Nyström\, Svante Starrin\, Annica Söderberg\, AnnaKarin Vesterberg. \nÖppet: 19-23 dec mellan kl. 12-18 alla dagar. \nVarmt välkomna! \nUtställningen sker i samverkan med Studieförbundet Vuxenskolan. \nBild: galleriuppsala.se. \nDela evenemanget
URL:https://arkiv.gratisuppsala.se/event/30-x-30-konstnarer-x-atta-2/
LOCATION:Galleri Upsala 1810\, Svartbäcksgatan 21\, Uppsala\, 75332\, Sverige
CATEGORIES:Konst, Fotografi och Design,Utställning
ATTACH;FMTTYPE=image/jpeg:https://arkiv.gratisuppsala.se/wp-content/uploads/2015/12/30gruppen.jpg
GEO:59.8611308;17.6344008
X-APPLE-STRUCTURED-LOCATION;VALUE=URI;X-ADDRESS=Galleri Upsala 1810 Svartbäcksgatan 21 Uppsala 75332 Sverige;X-APPLE-RADIUS=500;X-TITLE=Svartbäcksgatan 21:geo:17.6344008,59.8611308
END:VEVENT
END:VCALENDAR