BEGIN:VCALENDAR
VERSION:2.0
PRODID:-//Gratis Uppsala - ECPv5.2.1//NONSGML v1.0//EN
CALSCALE:GREGORIAN
METHOD:PUBLISH
X-WR-CALNAME:Gratis Uppsala
X-ORIGINAL-URL:https://arkiv.gratisuppsala.se
X-WR-CALDESC:Händelser för Gratis Uppsala
BEGIN:VTIMEZONE
TZID:Europe/Stockholm
BEGIN:DAYLIGHT
TZOFFSETFROM:+0100
TZOFFSETTO:+0200
TZNAME:CEST
DTSTART:20150329T010000
END:DAYLIGHT
BEGIN:STANDARD
TZOFFSETFROM:+0200
TZOFFSETTO:+0100
TZNAME:CET
DTSTART:20151025T010000
END:STANDARD
END:VTIMEZONE
BEGIN:VEVENT
DTSTART;TZID=Europe/Stockholm:20151014T150000
DTEND;TZID=Europe/Stockholm:20151014T150000
DTSTAMP:20260419T201040
CREATED:20150909T105900Z
LAST-MODIFIED:20150921T114355Z
UID:3674-1444834800-1444834800@arkiv.gratisuppsala.se
SUMMARY:Hur upplever och reglerar barn och unga med ADHD stress?
DESCRIPTION:Vilken roll spelar tidiga stressande livshändelser för ADHD?\nVad finns det för kunskap om hur stresshormonet kortisol påverkar ADHD? Det finns ett samband mellan ADHD och låga nivåer av stresshormon – trots att många med diagnosen upplever just stress. \n\n\nSambandet mellan ADHD och låga kortisolnivåer är till viss del utforskat sedan tidigare\, men resultaten har inte varit entydiga. \nFöredraget handlar bland annat om resultaten från en större studie vid Uppsala universitet där över 200 barn och unga med ADHD från Uppsala\, Gävle\, Enköping och Falun har deltagit. Barnens och ungdomarnas kortisolnivåer har mätts via salivprov fyra gånger om dagen. En fråga som framstår som viktig är hur de låga kortisolnivåerna påverkar barnens förmåga att möta utmaningar de ställs inför. \nSista anmälningsdag: 2015-10-14 kl. 12:00\nAntal platser: 80 (Varav 1 är bokade)\nBoka plats/anmäl dig \n\n Dela evenemanget
URL:https://arkiv.gratisuppsala.se/event/adhd-och-stress-bland-unga/
LOCATION:Museum Gustavianum\, Akademigatan 3\, Uppsala\, 75310\, Sverige
CATEGORIES:Föreläsning och Kurs,Samhälle
ATTACH;FMTTYPE=image/jpg:https://arkiv.gratisuppsala.se/wp-content/uploads/2015/09/uu-logga-e1447160818548-1.jpg
GEO:59.8579596;17.6318354
X-APPLE-STRUCTURED-LOCATION;VALUE=URI;X-ADDRESS=Museum Gustavianum Akademigatan 3 Uppsala 75310 Sverige;X-APPLE-RADIUS=500;X-TITLE=Akademigatan 3:geo:17.6318354,59.8579596
END:VEVENT
END:VCALENDAR