BEGIN:VCALENDAR
VERSION:2.0
PRODID:-//Gratis Uppsala - ECPv5.2.1//NONSGML v1.0//EN
CALSCALE:GREGORIAN
METHOD:PUBLISH
X-WR-CALNAME:Gratis Uppsala
X-ORIGINAL-URL:https://arkiv.gratisuppsala.se
X-WR-CALDESC:Händelser för Gratis Uppsala
BEGIN:VTIMEZONE
TZID:Europe/Stockholm
BEGIN:DAYLIGHT
TZOFFSETFROM:+0100
TZOFFSETTO:+0200
TZNAME:CEST
DTSTART:20160327T010000
END:DAYLIGHT
BEGIN:STANDARD
TZOFFSETFROM:+0200
TZOFFSETTO:+0100
TZNAME:CET
DTSTART:20161030T010000
END:STANDARD
END:VTIMEZONE
BEGIN:VEVENT
DTSTART;TZID=Europe/Stockholm:20161126T140000
DTEND;TZID=Europe/Stockholm:20161126T140000
DTSTAMP:20260420T075941
CREATED:20161110T095838Z
LAST-MODIFIED:20161110T095838Z
UID:9321-1480168800-1480168800@arkiv.gratisuppsala.se
SUMMARY:Adventsflöjt i Tingshuset Enköping
DESCRIPTION:Kulturskolan i Enköping bjuder på adventsflöjt i Tingshuset kl 14:00 lördagen den 26 november. \n  \nDela evenemanget
URL:https://arkiv.gratisuppsala.se/event/adventsflojt-tingshuset-enkoping/
LOCATION:Tingshuset Enköping\, Enköping\, Sverige
CATEGORIES:Konsert
ATTACH;FMTTYPE=image/jpeg:https://arkiv.gratisuppsala.se/wp-content/uploads/2016/11/flöjt-e1478771696144.jpg
ORGANIZER;CN="Enk%C3%B6pings%20kulturskola":MAILTO: kulturskolan@enkoping.se
GEO:59.6356909;17.0778228
END:VEVENT
END:VCALENDAR