BEGIN:VCALENDAR
VERSION:2.0
PRODID:-//Gratis Uppsala - ECPv5.2.1//NONSGML v1.0//EN
CALSCALE:GREGORIAN
METHOD:PUBLISH
X-WR-CALNAME:Gratis Uppsala
X-ORIGINAL-URL:https://arkiv.gratisuppsala.se
X-WR-CALDESC:Händelser för Gratis Uppsala
BEGIN:VTIMEZONE
TZID:Europe/Stockholm
BEGIN:DAYLIGHT
TZOFFSETFROM:+0100
TZOFFSETTO:+0200
TZNAME:CEST
DTSTART:20160327T010000
END:DAYLIGHT
BEGIN:STANDARD
TZOFFSETFROM:+0200
TZOFFSETTO:+0100
TZNAME:CET
DTSTART:20161030T010000
END:STANDARD
END:VTIMEZONE
BEGIN:VEVENT
DTSTART;TZID=Europe/Stockholm:20161126T180000
DTEND;TZID=Europe/Stockholm:20161126T190000
DTSTAMP:20260420T092915
CREATED:20161107T112910Z
LAST-MODIFIED:20161107T112910Z
UID:9287-1480183200-1480186800@arkiv.gratisuppsala.se
SUMMARY:Adventskonsert i Lötenkyrkan
DESCRIPTION:ADVENTSKONSERT: De sjunger in advent med kyrkans körer\, Linnékvintetten\, stråkensemblé m fl.\nKollekt Lötenkyrkans musikverksamhet. \nTid: 18.00 \nDela evenemanget
URL:https://arkiv.gratisuppsala.se/event/adventskonsert-i-lotenkyrkan/
LOCATION:Lötenkyrkan\, Heidenstamsgatan 71\, Uppsala\, 754 27\, Sverige
CATEGORIES:Religion
ATTACH;FMTTYPE=image/jpeg:https://arkiv.gratisuppsala.se/wp-content/uploads/2016/11/Omlöten2.jpg
GEO:59.8780519;17.6466608
X-APPLE-STRUCTURED-LOCATION;VALUE=URI;X-ADDRESS=Lötenkyrkan Heidenstamsgatan 71 Uppsala 754 27 Sverige;X-APPLE-RADIUS=500;X-TITLE=Heidenstamsgatan 71:geo:17.6466608,59.8780519
END:VEVENT
END:VCALENDAR