BEGIN:VCALENDAR
VERSION:2.0
PRODID:-//Gratis Uppsala - ECPv5.2.1//NONSGML v1.0//EN
CALSCALE:GREGORIAN
METHOD:PUBLISH
X-WR-CALNAME:Gratis Uppsala
X-ORIGINAL-URL:https://arkiv.gratisuppsala.se
X-WR-CALDESC:Händelser för Gratis Uppsala
BEGIN:VTIMEZONE
TZID:Europe/Stockholm
BEGIN:DAYLIGHT
TZOFFSETFROM:+0100
TZOFFSETTO:+0200
TZNAME:CEST
DTSTART:20160327T010000
END:DAYLIGHT
BEGIN:STANDARD
TZOFFSETFROM:+0200
TZOFFSETTO:+0100
TZNAME:CET
DTSTART:20161030T010000
END:STANDARD
END:VTIMEZONE
BEGIN:VEVENT
DTSTART;TZID=Europe/Stockholm:20160514T190000
DTEND;TZID=Europe/Stockholm:20160514T200000
DTSTAMP:20260421T150052
CREATED:20160512T091314Z
LAST-MODIFIED:20160512T091314Z
UID:6972-1463252400-1463256000@arkiv.gratisuppsala.se
SUMMARY:Afarkväll - Föreläsning om könssjukdomar
DESCRIPTION:Lokal/sal: Svartbäcksgatan 50 L\n\n\n\nVälkommen på en föreläsning som arrangeras av föreningen Afarvänner i Sverige.\nDr. Tedros Amanuel specialist i allmänmedicin berättar om skyddet och smittskyddslagen i Sverige. \nDet serveras förtäring till självkostnadspris vars behållning går oavkortat till föreningen Afarvänner i Sveriges utvecklingsprojekt. \nAfarvänner i Sverige är en humanitär organisation vars främsta mål är att informera om Afarfolket på Afrikas horn men också att starta och vara med i genomförandet av olika biståndsprojekt för att konkret förbättra Afarernas levnadsstandard. Läs merhär! \n\n Dela evenemanget
URL:https://arkiv.gratisuppsala.se/event/afarkvall-forelasning-om-konssjukdomar/
CATEGORIES:Föreläsning och Kurs
END:VEVENT
END:VCALENDAR