BEGIN:VCALENDAR
VERSION:2.0
PRODID:-//Gratis Uppsala - ECPv5.2.1//NONSGML v1.0//EN
CALSCALE:GREGORIAN
METHOD:PUBLISH
X-WR-CALNAME:Gratis Uppsala
X-ORIGINAL-URL:https://arkiv.gratisuppsala.se
X-WR-CALDESC:Händelser för Gratis Uppsala
BEGIN:VTIMEZONE
TZID:Europe/Stockholm
BEGIN:DAYLIGHT
TZOFFSETFROM:+0100
TZOFFSETTO:+0200
TZNAME:CEST
DTSTART:20160327T010000
END:DAYLIGHT
BEGIN:STANDARD
TZOFFSETFROM:+0200
TZOFFSETTO:+0100
TZNAME:CET
DTSTART:20161030T010000
END:STANDARD
END:VTIMEZONE
BEGIN:VEVENT
DTSTART;TZID=Europe/Stockholm:20160618T190000
DTEND;TZID=Europe/Stockholm:20160618T200000
DTSTAMP:20260421T111512
CREATED:20160504T113102Z
LAST-MODIFIED:20160504T113102Z
UID:6909-1466276400-1466280000@arkiv.gratisuppsala.se
SUMMARY:Afarkväll - Posttraumatisk stressyndrom
DESCRIPTION:Specialistpsykolog från Röda Korset berättar om hur man kan bearbeta traumat flyktingar har med sig ryggsäcken. \nDet serveras förtäring till självkostnadspris vars behållning går oavkortat till föreningen Afarvänner i Sveriges utvecklingsprojekt. \nLokal/sal: Svartbäcksgatan 50 L \nDela evenemanget
URL:https://arkiv.gratisuppsala.se/event/afarkvall-posttraumatisk-stressyndrom/
CATEGORIES:Föreläsning och Kurs
END:VEVENT
END:VCALENDAR