BEGIN:VCALENDAR
VERSION:2.0
PRODID:-//Gratis Uppsala - ECPv5.2.1//NONSGML v1.0//EN
CALSCALE:GREGORIAN
METHOD:PUBLISH
X-WR-CALNAME:Gratis Uppsala
X-ORIGINAL-URL:https://arkiv.gratisuppsala.se
X-WR-CALDESC:Händelser för Gratis Uppsala
BEGIN:VTIMEZONE
TZID:Europe/Stockholm
BEGIN:DAYLIGHT
TZOFFSETFROM:+0100
TZOFFSETTO:+0200
TZNAME:CEST
DTSTART:20160327T010000
END:DAYLIGHT
BEGIN:STANDARD
TZOFFSETFROM:+0200
TZOFFSETTO:+0100
TZNAME:CET
DTSTART:20161030T010000
END:STANDARD
END:VTIMEZONE
BEGIN:VEVENT
DTSTART;TZID=Europe/Stockholm:20160211T173000
DTEND;TZID=Europe/Stockholm:20160112T170000
DTSTAMP:20260421T152436
CREATED:20160112T125009Z
LAST-MODIFIED:20160112T125009Z
UID:5766-1455211800-1452618000@arkiv.gratisuppsala.se
SUMMARY:Afternoon Tea
DESCRIPTION:Välkommen att dricka en kopp te och lyssna till en novell. \nDela evenemanget
URL:https://arkiv.gratisuppsala.se/event/afternoon-tea-2/
LOCATION:Storvretabiblioteket\, Fullerövägen 1\, Storvreta\, Sverige
ATTACH;FMTTYPE=image/jpeg:https://arkiv.gratisuppsala.se/wp-content/uploads/2016/01/tea.jpg
ORGANIZER;CN="Bibliotek%20Uppsala":MAILTO:kundtjanst@bibliotekuppsala.se
END:VEVENT
END:VCALENDAR