BEGIN:VCALENDAR
VERSION:2.0
PRODID:-//Gratis Uppsala - ECPv5.2.1//NONSGML v1.0//EN
CALSCALE:GREGORIAN
METHOD:PUBLISH
X-WR-CALNAME:Gratis Uppsala
X-ORIGINAL-URL:https://arkiv.gratisuppsala.se
X-WR-CALDESC:Händelser för Gratis Uppsala
BEGIN:VTIMEZONE
TZID:Europe/Stockholm
BEGIN:DAYLIGHT
TZOFFSETFROM:+0100
TZOFFSETTO:+0200
TZNAME:CEST
DTSTART:20160327T010000
END:DAYLIGHT
BEGIN:STANDARD
TZOFFSETFROM:+0200
TZOFFSETTO:+0100
TZNAME:CET
DTSTART:20161030T010000
END:STANDARD
END:VTIMEZONE
BEGIN:VEVENT
DTSTART;TZID=Europe/Stockholm:20161103T160000
DTEND;TZID=Europe/Stockholm:20161103T170000
DTSTAMP:20260421T023519
CREATED:20161103T100647Z
LAST-MODIFIED:20161103T100943Z
UID:9251-1478188800-1478192400@arkiv.gratisuppsala.se
SUMMARY:Afternoon Tea
DESCRIPTION:Drick en kopp te och lyssna till en novell. \nAlla är välkomna \nInge föranmälan \nDela evenemanget
URL:https://arkiv.gratisuppsala.se/event/afternoon-tea-3/
LOCATION:Sävjabiblioteket\, Västgötaresan 133\, Uppsala\, 757 54\, Sverige
CATEGORIES:Höstlov,Litteratur och Poesi
ATTACH;FMTTYPE=image/jpeg:https://arkiv.gratisuppsala.se/wp-content/uploads/2016/11/book-with-tea.jpg
ORGANIZER;CN="S%C3%A4vjabiblioteket":MAILTO:savjabiblioteket@uppsala.se
GEO:59.810724;17.702339
X-APPLE-STRUCTURED-LOCATION;VALUE=URI;X-ADDRESS=Sävjabiblioteket Västgötaresan 133 Uppsala 757 54 Sverige;X-APPLE-RADIUS=500;X-TITLE=Västgötaresan 133:geo:17.702339,59.810724
END:VEVENT
END:VCALENDAR