BEGIN:VCALENDAR
VERSION:2.0
PRODID:-//Gratis Uppsala - ECPv5.2.1//NONSGML v1.0//EN
CALSCALE:GREGORIAN
METHOD:PUBLISH
X-WR-CALNAME:Gratis Uppsala
X-ORIGINAL-URL:https://arkiv.gratisuppsala.se
X-WR-CALDESC:Händelser för Gratis Uppsala
BEGIN:VTIMEZONE
TZID:Europe/Stockholm
BEGIN:DAYLIGHT
TZOFFSETFROM:+0100
TZOFFSETTO:+0200
TZNAME:CEST
DTSTART:20170326T010000
END:DAYLIGHT
BEGIN:STANDARD
TZOFFSETFROM:+0200
TZOFFSETTO:+0100
TZNAME:CET
DTSTART:20171029T010000
END:STANDARD
END:VTIMEZONE
BEGIN:VEVENT
DTSTART;TZID=Europe/Stockholm:20170413T070000
DTEND;TZID=Europe/Stockholm:20170413T160000
DTSTAMP:20260419T213519
CREATED:20170328T121839Z
LAST-MODIFIED:20170410T115209Z
UID:12898-1492066800-1492099200@arkiv.gratisuppsala.se
SUMMARY:Äggjakten
DESCRIPTION:Leta ägg med fina vinster\nTrött på påskägg med de där konstiga gelégodisarna som ingen äter? Vad sägs om gyllene ägg från Clarion Hotell Gillet med fluffiga hotellkuddar\, middagar\, spabehandlingar\, bruncher eller en natt i hotellsvit istället? Men för att lägga vantarna på ett av de eftertraktade påskäggen måste du först klura ut var i Uppsala påskhararna har gömt dem… På Skärtorsdagen den 13 april går den stora äggjakten av stapeln! \nClarions äggjakt startade på Clarion Hotel Post i Göteborg under 2013\, där Göteborgarna gick man ur huse för att leta gyllene ägg – som dök upp på bussar\, i buskar\, i köpcentrum\, på statyer och i rabatter. I år är påskharen extra generös och du hittar äggen i flera städer runt om i Sverige\, Norge\, Finland och Lettland. \nÄggen kommer gömmas runt om i Uppsala och alla ägg kommer att gömmas på offentliga ytor och områden. Observera att det INTE kommer gömmas några ägg i soptunnor eller inne på hotellet. Karta kommer inom kort! \nSkärtorsdagen\, 13 april\, klockan 06.00 startar jakten och pågår sedan till klockan 15.00\, eller tills alla ägg är funna. \nÄggen är guldfärgade och går inte att missa och inuti ägget finns priser som till exempel hotellnätter och kuddar. När du har hittat ditt ägg och öppnat det kommer du att hitta ett VÄRDEKORT med din vinst. Där får du även tydliga instruktioner kring hur och när du hämtar ditt pris. \nFör mer information läs här: https://www.facebook.com/events/713809872120946/ \nBild hämtad från pixabay.com \nDela evenemanget
URL:https://arkiv.gratisuppsala.se/event/aggjakten/
LOCATION:Clarion Hotel Gillet\, Dragarbrunnsgatan 23\, Uppsala\, 75320\, Sverige
CATEGORIES:Påsklov,Vuxen
ATTACH;FMTTYPE=image/png:https://arkiv.gratisuppsala.se/wp-content/uploads/2017/03/egg-1217255_640.png
GEO:59.8602303;17.6373712
X-APPLE-STRUCTURED-LOCATION;VALUE=URI;X-ADDRESS=Clarion Hotel Gillet Dragarbrunnsgatan 23 Uppsala 75320 Sverige;X-APPLE-RADIUS=500;X-TITLE=Dragarbrunnsgatan 23:geo:17.6373712,59.8602303
END:VEVENT
END:VCALENDAR