BEGIN:VCALENDAR
VERSION:2.0
PRODID:-//Gratis Uppsala - ECPv5.2.1//NONSGML v1.0//EN
CALSCALE:GREGORIAN
METHOD:PUBLISH
X-WR-CALNAME:Gratis Uppsala
X-ORIGINAL-URL:https://arkiv.gratisuppsala.se
X-WR-CALDESC:Händelser för Gratis Uppsala
BEGIN:VTIMEZONE
TZID:Europe/Stockholm
BEGIN:DAYLIGHT
TZOFFSETFROM:+0100
TZOFFSETTO:+0200
TZNAME:CEST
DTSTART:20160327T010000
END:DAYLIGHT
BEGIN:STANDARD
TZOFFSETFROM:+0200
TZOFFSETTO:+0100
TZNAME:CET
DTSTART:20161030T010000
END:STANDARD
END:VTIMEZONE
BEGIN:VEVENT
DTSTART;TZID=Europe/Stockholm:20161108T180000
DTEND;TZID=Europe/Stockholm:20161108T190000
DTSTAMP:20260420T042834
CREATED:20161107T081923Z
LAST-MODIFIED:20161107T081923Z
UID:9277-1478628000-1478631600@arkiv.gratisuppsala.se
SUMMARY:Aktuellt: Hur har Polisen det egentligen?
DESCRIPTION:Aktuellt: Hur har Polisen det egentligen? Presstalesman Christer Nordström och polispräst Thore Rosenberg samtalar med Jonas Lindberg. \nFika: Enkla smörgåsar (20:-). \nDela evenemanget
URL:https://arkiv.gratisuppsala.se/event/aktuellt-hur-har-polisen-det-egentligen/
LOCATION:Uppsala domkyrka\, Domkyrkoplan 5\, Uppsala\, 75310\, Sverige
CATEGORIES:Religion
ATTACH;FMTTYPE=image/jpeg:https://arkiv.gratisuppsala.se/wp-content/uploads/2016/10/Domkyrkan.jpg
GEO:59.8584471;17.6332992
X-APPLE-STRUCTURED-LOCATION;VALUE=URI;X-ADDRESS=Uppsala domkyrka Domkyrkoplan 5 Uppsala 75310 Sverige;X-APPLE-RADIUS=500;X-TITLE=Domkyrkoplan 5:geo:17.6332992,59.8584471
END:VEVENT
END:VCALENDAR