BEGIN:VCALENDAR
VERSION:2.0
PRODID:-//Gratis Uppsala - ECPv5.2.1//NONSGML v1.0//EN
CALSCALE:GREGORIAN
METHOD:PUBLISH
X-WR-CALNAME:Gratis Uppsala
X-ORIGINAL-URL:https://arkiv.gratisuppsala.se
X-WR-CALDESC:Händelser för Gratis Uppsala
BEGIN:VTIMEZONE
TZID:Europe/Stockholm
BEGIN:DAYLIGHT
TZOFFSETFROM:+0100
TZOFFSETTO:+0200
TZNAME:CEST
DTSTART:20150329T010000
END:DAYLIGHT
BEGIN:STANDARD
TZOFFSETFROM:+0200
TZOFFSETTO:+0100
TZNAME:CET
DTSTART:20151025T010000
END:STANDARD
END:VTIMEZONE
BEGIN:VEVENT
DTSTART;TZID=Europe/Stockholm:20151031T170000
DTEND;TZID=Europe/Stockholm:20151031T180000
DTSTAMP:20260420T055604
CREATED:20151027T085921Z
LAST-MODIFIED:20151030T085806Z
UID:4315-1446310800-1446314400@arkiv.gratisuppsala.se
SUMMARY:Musik i allhelgonatid
DESCRIPTION:Oskar Forsberg\, saxofoner och Anders Forsberg\, synthar och klaviatur tolkar allhelgonamusik från norr då och nu. \nDanmarks kyrka 31 oktober kl. 17.00 \nBild: Danmark-Funbo församling \nDela evenemanget
URL:https://arkiv.gratisuppsala.se/event/allhelgonamusik/
LOCATION:Sverige
CATEGORIES:Sång och Musik
ATTACH;FMTTYPE=image/jpeg:https://arkiv.gratisuppsala.se/wp-content/uploads/2015/10/b47055dc-8df4-4d11-81cb-7cb9af845afc__H.jpg
END:VEVENT
END:VCALENDAR