BEGIN:VCALENDAR
VERSION:2.0
PRODID:-//Gratis Uppsala - ECPv5.2.1//NONSGML v1.0//EN
CALSCALE:GREGORIAN
METHOD:PUBLISH
X-WR-CALNAME:Gratis Uppsala
X-ORIGINAL-URL:https://arkiv.gratisuppsala.se
X-WR-CALDESC:Händelser för Gratis Uppsala
BEGIN:VTIMEZONE
TZID:Europe/Stockholm
BEGIN:DAYLIGHT
TZOFFSETFROM:+0100
TZOFFSETTO:+0200
TZNAME:CEST
DTSTART:20150329T010000
END:DAYLIGHT
BEGIN:STANDARD
TZOFFSETFROM:+0200
TZOFFSETTO:+0100
TZNAME:CET
DTSTART:20151025T010000
END:STANDARD
END:VTIMEZONE
BEGIN:VEVENT
DTSTART;TZID=Europe/Stockholm:20151016T150000
DTEND;TZID=Europe/Stockholm:20151016T153000
DTSTAMP:20260420T073404
CREATED:20150929T072112Z
LAST-MODIFIED:20150929T072112Z
UID:3982-1445007600-1445009400@arkiv.gratisuppsala.se
SUMMARY:Allmän visning av utställningen Tiden i rummet - människor i Uppland under 5000 år
DESCRIPTION:Under hösten erbjuder Upplandsmuseet varje fredag en allmän visning av någon av deras aktuella utställningar. \nDela evenemanget
URL:https://arkiv.gratisuppsala.se/event/allman-visning-av-utstallningen-tiden-i-rummet-manniskor-i-uppland-under-5000-ar/
LOCATION:Upplandsmuseet\, Fyristorg 2\, Uppsala\, Sverige
CATEGORIES:Utställning
GEO:59.85895;17.634901
X-APPLE-STRUCTURED-LOCATION;VALUE=URI;X-ADDRESS=Upplandsmuseet Fyristorg 2 Uppsala Sverige;X-APPLE-RADIUS=500;X-TITLE=Fyristorg 2:geo:17.634901,59.85895
END:VEVENT
END:VCALENDAR