BEGIN:VCALENDAR
VERSION:2.0
PRODID:-//Gratis Uppsala - ECPv5.2.1//NONSGML v1.0//EN
CALSCALE:GREGORIAN
METHOD:PUBLISH
X-WR-CALNAME:Gratis Uppsala
X-ORIGINAL-URL:https://arkiv.gratisuppsala.se
X-WR-CALDESC:Händelser för Gratis Uppsala
BEGIN:VTIMEZONE
TZID:Europe/Stockholm
BEGIN:DAYLIGHT
TZOFFSETFROM:+0100
TZOFFSETTO:+0200
TZNAME:CEST
DTSTART:20150329T010000
END:DAYLIGHT
BEGIN:STANDARD
TZOFFSETFROM:+0200
TZOFFSETTO:+0100
TZNAME:CET
DTSTART:20151025T010000
END:STANDARD
END:VTIMEZONE
BEGIN:VEVENT
DTSTART;VALUE=DATE:20151226
DTEND;VALUE=DATE:20151231
DTSTAMP:20260424T180529
CREATED:20151222T105728Z
LAST-MODIFIED:20151228T094737Z
UID:5330-1451088000-1451519999@arkiv.gratisuppsala.se
SUMMARY:NICE ICE\, VALSÄTRA IP - Allmänhetens Åkning
DESCRIPTION:Allmänhetens Åkning fortsätter 28-30 december\nKl.11.00-14.00 Endast skridskoåkning utan klubbor. \nKl.14.00-17.00 Spel med klubbor tillåtet. \nDela evenemanget
URL:https://arkiv.gratisuppsala.se/event/allmanhetens-akning/
LOCATION:Valsätra IP\, Slädvägen 1\, Uppsala\, 756 47\, Sverige
CATEGORIES:Sport & Motion
ATTACH;FMTTYPE=image/jpeg:https://arkiv.gratisuppsala.se/wp-content/uploads/2015/12/Skridsko.jpg
ORGANIZER;CN="Uppsala%20Young%20Hockey%20Club":MAILTO:info@uppsalayoung.se
GEO:59.8221243;17.6260287
X-APPLE-STRUCTURED-LOCATION;VALUE=URI;X-ADDRESS=Valsätra IP Slädvägen 1 Uppsala 756 47 Sverige;X-APPLE-RADIUS=500;X-TITLE=Slädvägen 1:geo:17.6260287,59.8221243
END:VEVENT
END:VCALENDAR