BEGIN:VCALENDAR
VERSION:2.0
PRODID:-//Gratis Uppsala - ECPv5.2.1//NONSGML v1.0//EN
CALSCALE:GREGORIAN
METHOD:PUBLISH
X-WR-CALNAME:Gratis Uppsala
X-ORIGINAL-URL:https://arkiv.gratisuppsala.se
X-WR-CALDESC:Händelser för Gratis Uppsala
BEGIN:VTIMEZONE
TZID:Europe/Stockholm
BEGIN:DAYLIGHT
TZOFFSETFROM:+0100
TZOFFSETTO:+0200
TZNAME:CEST
DTSTART:20150329T010000
END:DAYLIGHT
BEGIN:STANDARD
TZOFFSETFROM:+0200
TZOFFSETTO:+0100
TZNAME:CET
DTSTART:20151025T010000
END:STANDARD
END:VTIMEZONE
BEGIN:VEVENT
DTSTART;TZID=Europe/Stockholm:20151211T160000
DTEND;TZID=Europe/Stockholm:20151211T223000
DTSTAMP:20260419T215426
CREATED:20151208T124553Z
LAST-MODIFIED:20151208T125229Z
UID:5158-1449849600-1449873000@arkiv.gratisuppsala.se
SUMMARY:ALM-dagen med gratis elitbandy
DESCRIPTION:Julmarknad \, fika och gratis elitseriebandy mellan Sirius-Vetlanda! Det är några av höjdpunkterna under ALM-dagen på Studenternas. \nTillsammans med Skrotcentralen\, Uppsala Handelsstål och Returspapperscentralen arrangerar Sirius Bandy ALM-dagen 2015. \nFrån 16:00 kommer blir det julmarknad och andra aktiviteter på Studenternas. Kl. 19:00 är det sedan dags för Sirius att spela match mot Vetlanda. \nI Relitatältet finns möjlighet att äta\, dricka och värma sig. \nTack vare familjen Alm är hela eventet och fikat gratis! \nDela evenemanget
URL:https://arkiv.gratisuppsala.se/event/alm-dagen-med-gratis-elitbandy/
LOCATION:Studenternas IP\, Ulleråkersvägen 6\, Uppsala\, 753 09\, Sverige
CATEGORIES:Marknad & Loppis,Sport & Motion
ATTACH;FMTTYPE=image/jpeg:https://arkiv.gratisuppsala.se/wp-content/uploads/2015/12/almdagen-e1449578721465.jpg
GEO:59.8467885;17.6492147
X-APPLE-STRUCTURED-LOCATION;VALUE=URI;X-ADDRESS=Studenternas IP Ulleråkersvägen 6 Uppsala 753 09 Sverige;X-APPLE-RADIUS=500;X-TITLE=Ulleråkersvägen 6:geo:17.6492147,59.8467885
END:VEVENT
END:VCALENDAR