BEGIN:VCALENDAR
VERSION:2.0
PRODID:-//Gratis Uppsala - ECPv5.2.1//NONSGML v1.0//EN
CALSCALE:GREGORIAN
METHOD:PUBLISH
X-WR-CALNAME:Gratis Uppsala
X-ORIGINAL-URL:https://arkiv.gratisuppsala.se
X-WR-CALDESC:Händelser för Gratis Uppsala
BEGIN:VTIMEZONE
TZID:Europe/Stockholm
BEGIN:DAYLIGHT
TZOFFSETFROM:+0100
TZOFFSETTO:+0200
TZNAME:CEST
DTSTART:20160327T010000
END:DAYLIGHT
BEGIN:STANDARD
TZOFFSETFROM:+0200
TZOFFSETTO:+0100
TZNAME:CET
DTSTART:20161030T010000
END:STANDARD
END:VTIMEZONE
BEGIN:VEVENT
DTSTART;TZID=Europe/Stockholm:20161217T160000
DTEND;TZID=Europe/Stockholm:20161216T170000
DTSTAMP:20260419T162035
CREATED:20161216T151346Z
LAST-MODIFIED:20161216T151346Z
UID:9905-1481990400-1481907600@arkiv.gratisuppsala.se
SUMMARY:Änglarna sjunger
DESCRIPTION:Julkonsert i Gottsunda kyrka. \nFörsamlingskören och Chorisima damkör\nLars Jörtsjö\, piano\nDirigent: Denise Engman \nDela evenemanget
URL:https://arkiv.gratisuppsala.se/event/anglarna-sjunger/
LOCATION:Gottsunda kyrka\, Gottsunda Centrum\, Uppsala\, 75025\, Sverige
CATEGORIES:Konsert,Religion,Sång och Musik
GEO:59.8093409;17.6295555
X-APPLE-STRUCTURED-LOCATION;VALUE=URI;X-ADDRESS=Gottsunda kyrka Gottsunda Centrum Uppsala 75025 Sverige;X-APPLE-RADIUS=500;X-TITLE=Gottsunda Centrum:geo:17.6295555,59.8093409
END:VEVENT
END:VCALENDAR