BEGIN:VCALENDAR
VERSION:2.0
PRODID:-//Gratis Uppsala - ECPv5.2.1//NONSGML v1.0//EN
CALSCALE:GREGORIAN
METHOD:PUBLISH
X-WR-CALNAME:Gratis Uppsala
X-ORIGINAL-URL:https://arkiv.gratisuppsala.se
X-WR-CALDESC:Händelser för Gratis Uppsala
BEGIN:VTIMEZONE
TZID:Europe/Stockholm
BEGIN:DAYLIGHT
TZOFFSETFROM:+0100
TZOFFSETTO:+0200
TZNAME:CEST
DTSTART:20170326T010000
END:DAYLIGHT
BEGIN:STANDARD
TZOFFSETFROM:+0200
TZOFFSETTO:+0100
TZNAME:CET
DTSTART:20171029T010000
END:STANDARD
END:VTIMEZONE
BEGIN:VEVENT
DTSTART;TZID=Europe/Stockholm:20170528T190000
DTEND;TZID=Europe/Stockholm:20170528T190000
DTSTAMP:20260421T125941
CREATED:20170523T082333Z
LAST-MODIFIED:20170523T082333Z
UID:14314-1495998000-1495998000@arkiv.gratisuppsala.se
SUMMARY:Tack för musiken från Jackson till Gärdestad
DESCRIPTION:Konsert med Animakören\nAnimakören ger konserten Tack för musiken från Jackson till Gärdestad i Västerlövsta kyrka söndag 28 maj kl 18:00. \nDirigent: Mikaela Eriksson\nPiano: Simon Arlasjö\nBas: Carina Börjesdotter \nFri entré – kollekt \nBild från wikimedia.org \nDela evenemanget
URL:https://arkiv.gratisuppsala.se/event/animakoren/
LOCATION:Västerlövsta kyrka\, Skolgatan 2\, Heby\, 744 31\, Sverige
CATEGORIES:Konsert,Religion,Sång och Musik
ATTACH;FMTTYPE=image/jpeg:https://arkiv.gratisuppsala.se/wp-content/uploads/2017/05/1200px-Västerlövsta_kyrka_2008-e1495531293289.jpg
ORGANIZER;CN="Heby%20Kommun":MAILTO:information@heby.se
GEO:59.9390036;16.8565574
X-APPLE-STRUCTURED-LOCATION;VALUE=URI;X-ADDRESS=Västerlövsta kyrka Skolgatan 2 Heby 744 31 Sverige;X-APPLE-RADIUS=500;X-TITLE=Skolgatan 2:geo:16.8565574,59.9390036
END:VEVENT
END:VCALENDAR