BEGIN:VCALENDAR
VERSION:2.0
PRODID:-//Gratis Uppsala - ECPv5.2.1//NONSGML v1.0//EN
CALSCALE:GREGORIAN
METHOD:PUBLISH
X-WR-CALNAME:Gratis Uppsala
X-ORIGINAL-URL:https://arkiv.gratisuppsala.se
X-WR-CALDESC:Händelser för Gratis Uppsala
BEGIN:VTIMEZONE
TZID:Europe/Stockholm
BEGIN:DAYLIGHT
TZOFFSETFROM:+0100
TZOFFSETTO:+0200
TZNAME:CEST
DTSTART:20160327T010000
END:DAYLIGHT
BEGIN:STANDARD
TZOFFSETFROM:+0200
TZOFFSETTO:+0100
TZNAME:CET
DTSTART:20161030T010000
END:STANDARD
END:VTIMEZONE
BEGIN:VEVENT
DTSTART;TZID=Europe/Stockholm:20161218T140000
DTEND;TZID=Europe/Stockholm:20161212T170000
DTSTAMP:20260419T184624
CREATED:20161212T141724Z
LAST-MODIFIED:20161212T141724Z
UID:9784-1482069600-1481562000@arkiv.gratisuppsala.se
SUMMARY:Anna Stadling - American Tunes for Christmas
DESCRIPTION:Anna Stadling (som tidigare turnerat med Lars Winnerbäck & Hovet\, Staffan Hellstrand\, Idde Schultz m.fl) bjuder in till en julkonsert med amerikanska tongångar! Det blir klassiska jullåtar\, lite mer okända låtskatter och sånger som kanske inte alls hör julen till men som fångar julens viktigaste budskap – ensamhet\, utsatthet och gemenskap. \nFrivillig entré \nDela evenemanget
URL:https://arkiv.gratisuppsala.se/event/anna-stadling-american-tunes-christmas/
LOCATION:Kulturoasen\, Hågavägen 190\, Uppsala
CATEGORIES:Konsert,Sång och Musik
GEO:59.8381745;17.5761698
X-APPLE-STRUCTURED-LOCATION;VALUE=URI;X-ADDRESS=Kulturoasen Hågavägen 190 Uppsala;X-APPLE-RADIUS=500;X-TITLE=Hågavägen 190:geo:17.5761698,59.8381745
END:VEVENT
END:VCALENDAR