BEGIN:VCALENDAR
VERSION:2.0
PRODID:-//Gratis Uppsala - ECPv5.2.1//NONSGML v1.0//EN
CALSCALE:GREGORIAN
METHOD:PUBLISH
X-WR-CALNAME:Gratis Uppsala
X-ORIGINAL-URL:https://arkiv.gratisuppsala.se
X-WR-CALDESC:Händelser för Gratis Uppsala
BEGIN:VTIMEZONE
TZID:Europe/Stockholm
BEGIN:DAYLIGHT
TZOFFSETFROM:+0100
TZOFFSETTO:+0200
TZNAME:CEST
DTSTART:20160327T010000
END:DAYLIGHT
BEGIN:STANDARD
TZOFFSETFROM:+0200
TZOFFSETTO:+0100
TZNAME:CET
DTSTART:20161030T010000
END:STANDARD
END:VTIMEZONE
BEGIN:VEVENT
DTSTART;TZID=Europe/Stockholm:20160207T140000
DTEND;TZID=Europe/Stockholm:20160207T140000
DTSTAMP:20260419T190159
CREATED:20160127T090702Z
LAST-MODIFIED:20160127T105249Z
UID:5963-1454853600-1454853600@arkiv.gratisuppsala.se
SUMMARY:Anna Stadling sjunger Johnny Cash på Kulturoasen
DESCRIPTION:2011 började en ny era för Anna Stadling. Hon blev mamma till adoptivsonen John Henry\, och i omställningen till att plötsligt vara tre i familjen\, samtidigt som slussarna till barndomens egna minnen öppnades i takt med att sonen växte\, bildades ett behov av att gå tillbaka till rötterna\, till där allt började. I hemmet spelade och sjöng Anna Johnny Cash-sångerna hon vuxit upp med\, och idén om ett album tog form. Men det blev inte ett album – det blev två. \nAlbumet STADLING/CASH släpptes tidigt 2013\, och präglade hela året. Både albumet och konserterna mottogs med jublande recensioner från både press och publik\, och spelningar med både trion\, en mängd körer och även symfoniorkester avlöste varandra. Att ge sig på att tolka Cash är inte ett enkelt uppdrag\, men att Anna fått med beröm godkänt från även de mest traditionella countrypoliserna säger en hel del om hennes begåvning. \nI tidningarna kunde man läsa utrop som ” First Aid Kit får se upp… Sveriges bästa country-sångerska!” (Expressen)\, ”en röst som både smeker och klöser” (Östgöta Correspondenten)\, ”en mäktig musikalisk upplevelse” (Norran).  \n19 mars 2014 släpptes egenskrivna albumet ”Av timmarna som gick utan dig minns jag nästan ingenting”. Anna står bakom det mesta av materialet och ja – albumet är tillägnat sonen. \n – Jag trodde inte att det var möjligt att vara så här produktiv\, framför allt inte i ett sådant här skede i livet.Några av låtarna på albumet har kommit till när Jonte krupit omkring på golvet där jag suttit och sjungit barnvisor i mängder. Sången blev ett väldigt konkret sätt att kommunicera på eftersom vi inte kände varandra till en början. Och nåt gemensamt språk hade vi ju inte heller. Men där\, sittandes tillsammans på golvet\, har idéer och embryon till låtar kommit plötsligt och spontant. Små strofer\, melodier och grunderna till det som senare blivit låtar som ”Älskar dig”\, ”Bättre dagar” och ”John Henry”. \n2014 blev ett intensivt år med konserter runtom i Sverige på nya skivan och med STADLING/CASH skivan men också med låten ”Jubelsången” som kompositören Stefan Nilsson skrivit. Anna har under året setts flitigt i rutan i bla Allsång på Skansen\, Bingolotto och Gokväll. På p4 har hennes två singlar från albumet ”Älskar dig” och ”Bättre dagar” spelats konstant. Självaste premiärspelningen med skivan ”Av timmarna som gick utan dig minns jag nästan ingentng” gjorde Anna som öppningsakt för det amerikanska bandet ”Dixie Chicks” och deras enda spelning i Sverige i Stockholm i mars 2014. \nFrivillig entré \nDela evenemanget
URL:https://arkiv.gratisuppsala.se/event/anna-stadling-sjunger-johnny-cash/
LOCATION:Kulturoasen\, Hågavägen 190\, Uppsala
CATEGORIES:Sång och Musik
ATTACH;FMTTYPE=image/jpeg:https://arkiv.gratisuppsala.se/wp-content/uploads/2016/01/stadling-960x350-e1453885713830.jpg
GEO:59.8381745;17.5761698
X-APPLE-STRUCTURED-LOCATION;VALUE=URI;X-ADDRESS=Kulturoasen Hågavägen 190 Uppsala;X-APPLE-RADIUS=500;X-TITLE=Hågavägen 190:geo:17.5761698,59.8381745
END:VEVENT
END:VCALENDAR