BEGIN:VCALENDAR
VERSION:2.0
PRODID:-//Gratis Uppsala - ECPv5.2.1//NONSGML v1.0//EN
CALSCALE:GREGORIAN
METHOD:PUBLISH
X-WR-CALNAME:Gratis Uppsala
X-ORIGINAL-URL:https://arkiv.gratisuppsala.se
X-WR-CALDESC:Händelser för Gratis Uppsala
BEGIN:VTIMEZONE
TZID:Europe/Stockholm
BEGIN:DAYLIGHT
TZOFFSETFROM:+0100
TZOFFSETTO:+0200
TZNAME:CEST
DTSTART:20180325T010000
END:DAYLIGHT
BEGIN:STANDARD
TZOFFSETFROM:+0200
TZOFFSETTO:+0100
TZNAME:CET
DTSTART:20181028T010000
END:STANDARD
END:VTIMEZONE
BEGIN:VEVENT
DTSTART;TZID=Europe/Stockholm:20180922T120000
DTEND;TZID=Europe/Stockholm:20180922T170000
DTSTAMP:20260420T155612
CREATED:20180916T182548Z
LAST-MODIFIED:20180916T182548Z
UID:25503-1537617600-1537635600@arkiv.gratisuppsala.se
SUMMARY:Äppeldagar på Linnés Hammarby
DESCRIPTION:Äppeldagar på Linnés Hammarby\nMusta dina äpplen\, få hjälp att sortbestämma dem eller lär dig känna igen olika sorter i den stora äppelutställningen.\nÄppeldagar på Linnés Hammarby – Uppsala linneanska trädgårdar visar hur du beskär dina fruktträd och berättar om äppelsjukdomar. Gå på tipspromenad och lär dig mer om våra hjälpsamma grannar – pollinatörerna. På söndagen slungar Hagby honungs biodlare honung. Då får du också provsmaka och lära dig mer om biodling. \n\nKöp med dig ett äppelträd hem. Sorterna är hämtade från klonarkivet. \nDatum: 22 -23 september 2018\nTid: 11.00 – 16.00\nPlats: Linnés Hammarby \nArrangör: Uppsala linneanska trädgårdar \nMedverkande: Pomme Pomme\, Sällskapet Linnés Hammarby\, Mattias Iwarsson\, Hagby honung (söndag)\, Naturskyddsföreningen (lördag)\, SLU Agrarhistoria\, Länsstyrelsen Uppsala län. \nKontaktperson: Lotta S Saetre \n\n  \n\nBesök gärna länken nedan för mer information (öppnas i ett nytt fönster/flik).\nUppsala linneanska trädgårdar \nFoto: rawpixel via Unsplash \nDela evenemanget
URL:https://arkiv.gratisuppsala.se/event/appeldagar-linnes-hammarby-ht18/2018-09-22/
LOCATION:Linnés Hammarby\, Danmarks-hammarby\, Uppsala\, 755 98\, Sverige
CATEGORIES:Familj,Kunskap och Lärande,Skörd,Trädgård,Vuxen
ATTACH;FMTTYPE=image/jpeg:https://arkiv.gratisuppsala.se/wp-content/uploads/2018/09/rawpixel-740373-unsplash-e1537125701702.jpg
ORGANIZER;CN="Uppsala%20linneanska%20tr%C3%A4dg%C3%A5rdar":MAILTO:bokning@botan.uu.se
GEO:59.817438;17.776032
X-APPLE-STRUCTURED-LOCATION;VALUE=URI;X-ADDRESS=Linnés Hammarby Danmarks-hammarby Uppsala 755 98 Sverige;X-APPLE-RADIUS=500;X-TITLE=Danmarks-hammarby:geo:17.776032,59.817438
END:VEVENT
END:VCALENDAR