BEGIN:VCALENDAR
VERSION:2.0
PRODID:-//Gratis Uppsala - ECPv5.2.1//NONSGML v1.0//EN
CALSCALE:GREGORIAN
METHOD:PUBLISH
X-WR-CALNAME:Gratis Uppsala
X-ORIGINAL-URL:https://arkiv.gratisuppsala.se
X-WR-CALDESC:Händelser för Gratis Uppsala
BEGIN:VTIMEZONE
TZID:Europe/Stockholm
BEGIN:DAYLIGHT
TZOFFSETFROM:+0100
TZOFFSETTO:+0200
TZNAME:CEST
DTSTART:20160327T010000
END:DAYLIGHT
BEGIN:STANDARD
TZOFFSETFROM:+0200
TZOFFSETTO:+0100
TZNAME:CET
DTSTART:20161030T010000
END:STANDARD
END:VTIMEZONE
BEGIN:VEVENT
DTSTART;TZID=Europe/Stockholm:20160312T150000
DTEND;TZID=Europe/Stockholm:20160308T170000
DTSTAMP:20260421T224017
CREATED:20160308T114834Z
LAST-MODIFIED:20160308T114834Z
UID:6395-1457794800-1457456400@arkiv.gratisuppsala.se
SUMMARY:Arnesen & Lantz Group hos Katalin
DESCRIPTION:Arnesen & Lantz Group hos Katalin\, lördagsjazz i puben. \nHärligt sväng när gitarr och keyboard möter Per V Johanssons bas och Håkan Janssons trummor. \nKl 15\, insläpp från kl 13. Fri entré med frivillig orkesterslant. \nBild: pixabay.com. \nDela evenemanget
URL:https://arkiv.gratisuppsala.se/event/arnesen-lantz-group-hos-katalin/
LOCATION:Katalin\, Roslagsgatan 1\, Uppsala\, 753 27\, Sverige
CATEGORIES:Sång och Musik
ATTACH;FMTTYPE=image/jpeg:https://arkiv.gratisuppsala.se/wp-content/uploads/2016/03/gitarr_gklav.jpg
ORGANIZER;CN="Katalin":MAILTO:info@katalin.com
END:VEVENT
END:VCALENDAR