BEGIN:VCALENDAR
VERSION:2.0
PRODID:-//Gratis Uppsala - ECPv5.2.1//NONSGML v1.0//EN
CALSCALE:GREGORIAN
METHOD:PUBLISH
X-WR-CALNAME:Gratis Uppsala
X-ORIGINAL-URL:https://arkiv.gratisuppsala.se
X-WR-CALDESC:Händelser för Gratis Uppsala
BEGIN:VTIMEZONE
TZID:Europe/Stockholm
BEGIN:DAYLIGHT
TZOFFSETFROM:+0100
TZOFFSETTO:+0200
TZNAME:CEST
DTSTART:20170326T010000
END:DAYLIGHT
BEGIN:STANDARD
TZOFFSETFROM:+0200
TZOFFSETTO:+0100
TZNAME:CET
DTSTART:20171029T010000
END:STANDARD
END:VTIMEZONE
BEGIN:VEVENT
DTSTART;TZID=Europe/Stockholm:20170502T200000
DTEND;TZID=Europe/Stockholm:20170502T213000
DTSTAMP:20260421T034402
CREATED:20170428T064049Z
LAST-MODIFIED:20170502T070330Z
UID:13526-1493755200-1493760600@arkiv.gratisuppsala.se
SUMMARY:Att bära världen - om Dag Hammarskjöld
DESCRIPTION:Föreläsning i Knivsta\nHenrik Berggren är journalist på Dagens Nyheter och har disputerat med inriktning på modern svensk historia\, han ska tala om sin biografi om Dag Hammarskjöld. \nTill författarbesöket tar han med sig den alldeles färska biografin Dag Hammarskjöld – Att bära världen. Boken täcker hela Dag Hammarskjölds liv\, från barndomsåren i Sverige\, tonåren på Uppsala slott\, hans framgångsrika och okända ämbetsmannaår i Sverige till hans oerhört framgångsrika tid i FN och den för tidiga döden i en flygplanskrasch. \nGratis inträde! \nBilden hämtad från wikimedia.org \nDela evenemanget
URL:https://arkiv.gratisuppsala.se/event/att-bara-varlden/
LOCATION:Knivsta Bibliotek\, Centralvägen 18\, Knivsta\, Knivsta\, 74140\, Sverige
CATEGORIES:Föreläsning och Kurs,Samhälle
ATTACH;FMTTYPE=image/jpeg:https://arkiv.gratisuppsala.se/wp-content/uploads/2017/03/Dag-hammarskjold_2.jpg
ORGANIZER;CN="Knivsta%20bibliotek":MAILTO:knivstabibliotek@knivsta.se
GEO:59.7276919;17.7857802
X-APPLE-STRUCTURED-LOCATION;VALUE=URI;X-ADDRESS=Knivsta Bibliotek Centralvägen 18 Knivsta Knivsta 74140 Sverige;X-APPLE-RADIUS=500;X-TITLE=Centralvägen 18:geo:17.7857802,59.7276919
END:VEVENT
END:VCALENDAR