BEGIN:VCALENDAR
VERSION:2.0
PRODID:-//Gratis Uppsala - ECPv5.2.1//NONSGML v1.0//EN
CALSCALE:GREGORIAN
METHOD:PUBLISH
X-WR-CALNAME:Gratis Uppsala
X-ORIGINAL-URL:https://arkiv.gratisuppsala.se
X-WR-CALDESC:Händelser för Gratis Uppsala
BEGIN:VTIMEZONE
TZID:Europe/Stockholm
BEGIN:DAYLIGHT
TZOFFSETFROM:+0100
TZOFFSETTO:+0200
TZNAME:CEST
DTSTART:20150329T010000
END:DAYLIGHT
BEGIN:STANDARD
TZOFFSETFROM:+0200
TZOFFSETTO:+0100
TZNAME:CET
DTSTART:20151025T010000
END:STANDARD
END:VTIMEZONE
BEGIN:VEVENT
DTSTART;TZID=Europe/Stockholm:20150826T190000
DTEND;TZID=Europe/Stockholm:20150826T203000
DTSTAMP:20260420T054543
CREATED:20150821T104101Z
LAST-MODIFIED:20150821T104101Z
UID:3442-1440615600-1440621000@arkiv.gratisuppsala.se
SUMMARY:Att få och få behålla LSS-insatser: en uppföljning
DESCRIPTION:I januari pratade Barbro Lewin om sitt projekt Att få och få behålla LSS-insatser. Den här kvällen är en uppföljning av januariföreläsningen.\nTemakvällen vänder sig till föräldrar\, anhöriga\, gode män och personer med LSS-insatser enligt personkrets 1. \nDela evenemanget
URL:https://arkiv.gratisuppsala.se/event/att-fa-och-fa-behalla-lss-insatser-en-uppfoljning/
LOCATION:Infoteket om funktionshinder\, S:t Johannesgatan 28 D\, Uppsala\, 752 33\, Sverige
ORGANIZER;CN="Infoteket%20om%20funktionshinder":MAILTO:infoteket@lul.se
GEO:59.8553013;17.6213622
X-APPLE-STRUCTURED-LOCATION;VALUE=URI;X-ADDRESS=Infoteket om funktionshinder S:t Johannesgatan 28 D Uppsala 752 33 Sverige;X-APPLE-RADIUS=500;X-TITLE=S:t Johannesgatan 28 D:geo:17.6213622,59.8553013
END:VEVENT
END:VCALENDAR