BEGIN:VCALENDAR
VERSION:2.0
PRODID:-//Gratis Uppsala - ECPv5.2.1//NONSGML v1.0//EN
CALSCALE:GREGORIAN
METHOD:PUBLISH
X-WR-CALNAME:Gratis Uppsala
X-ORIGINAL-URL:https://arkiv.gratisuppsala.se
X-WR-CALDESC:Händelser för Gratis Uppsala
BEGIN:VTIMEZONE
TZID:Europe/Stockholm
BEGIN:DAYLIGHT
TZOFFSETFROM:+0100
TZOFFSETTO:+0200
TZNAME:CEST
DTSTART:20150329T010000
END:DAYLIGHT
BEGIN:STANDARD
TZOFFSETFROM:+0200
TZOFFSETTO:+0100
TZNAME:CET
DTSTART:20151025T010000
END:STANDARD
END:VTIMEZONE
BEGIN:VEVENT
DTSTART;TZID=Europe/Stockholm:20151210T140000
DTEND;TZID=Europe/Stockholm:20151210T160000
DTSTAMP:20260419T201445
CREATED:20151123T103424Z
LAST-MODIFIED:20151123T103424Z
UID:4816-1449756000-1449763200@arkiv.gratisuppsala.se
SUMMARY:Att öka delaktigheten för barn med grava fysiska och kognitiva funktionsnedsättningar
DESCRIPTION:Lars Oestreicher\, tekn dr\, lektor och forskare vid Institutionen för informationsteknologi\, Uppsala universitet berättar om sin forskning om att utveckla kreativa musik- och bildmiljöer med minimalistiska interaktionsmedel i särskolan med syfte att öka delaktigheten för barn med grava fysiska och kognitiva funktionsnedsättningar. \nKostnadsfritt men föranmälan behövs senast kl 12 samma dag till cff@cff.uu.se eller 018-471 64 45. \nDela evenemanget
URL:https://arkiv.gratisuppsala.se/event/att-oka-delaktigheten-for-barn-med-grava-fysiska-och-kognitiva-funktionsnedsattningar/
LOCATION:Museum Gustavianum\, Akademigatan 3\, Uppsala\, 75310\, Sverige
CATEGORIES:Föreläsning och Kurs
GEO:59.8579596;17.6318354
X-APPLE-STRUCTURED-LOCATION;VALUE=URI;X-ADDRESS=Museum Gustavianum Akademigatan 3 Uppsala 75310 Sverige;X-APPLE-RADIUS=500;X-TITLE=Akademigatan 3:geo:17.6318354,59.8579596
END:VEVENT
END:VCALENDAR