BEGIN:VCALENDAR
VERSION:2.0
PRODID:-//Gratis Uppsala - ECPv5.2.1//NONSGML v1.0//EN
CALSCALE:GREGORIAN
METHOD:PUBLISH
X-WR-CALNAME:Gratis Uppsala
X-ORIGINAL-URL:https://arkiv.gratisuppsala.se
X-WR-CALDESC:Händelser för Gratis Uppsala
BEGIN:VTIMEZONE
TZID:Europe/Stockholm
BEGIN:DAYLIGHT
TZOFFSETFROM:+0100
TZOFFSETTO:+0200
TZNAME:CEST
DTSTART:20170326T010000
END:DAYLIGHT
BEGIN:STANDARD
TZOFFSETFROM:+0200
TZOFFSETTO:+0100
TZNAME:CET
DTSTART:20171029T010000
END:STANDARD
END:VTIMEZONE
BEGIN:VEVENT
DTSTART;TZID=Europe/Stockholm:20170403T200000
DTEND;TZID=Europe/Stockholm:20170403T220000
DTSTAMP:20260419T203902
CREATED:20170130T104803Z
LAST-MODIFIED:20170324T095520Z
UID:11095-1491249600-1491256800@arkiv.gratisuppsala.se
SUMMARY:Seminarium med Staffan Lindberg - Att utnyttja sina talanger
DESCRIPTION:Seminarium med Staffan Lindberg\n– Att utnyttja sina talanger\nStaffan Lindberg är en allkonstnär – talare\, komiker\, musiker\, konferencier\, moderator\, basist\, arrangör\, kompositör\, skribent med mera. Just nu aktuell bland annat med klimatshowen Det finns bara dåliga kläder\, som han spelar runt om i landet. Hör honom berätta om sitt liv\, sitt artisteri och engagemang och om oviljan att placera sig i ett ”fack” utan våga använda palettens alla färger för att nå fram till publiken. \nSeminariet arrangeras av Sigtunastifltelsen i samverkan med Sigtuna folkhögskola \nNär: Torsdag 6 april klockan 19.00-21.00 \nPlats: Sigtunastiftelsen \nBoka plats genom att gå in på Sigtunastiftelsens hemsida\, här. \n  \nHär finner du Sigtunastiftelsens program för vårterminen. \n  \nBild från pixabay.com \n  \nDela evenemanget
URL:https://arkiv.gratisuppsala.se/event/att-utnyttja-sina-talanger-livsstilsseminarium-pa-sigtunastiftelsen/
LOCATION:Sigtunastiftelsen\, Manfred Björkqvists allé 4\, Sigtuna\, 193 22
CATEGORIES:Föreläsning och Kurs
ATTACH;FMTTYPE=image/jpeg:https://arkiv.gratisuppsala.se/wp-content/uploads/2017/01/lecture-2044619_960_720.jpg
GEO:59.6158714;17.7101321
X-APPLE-STRUCTURED-LOCATION;VALUE=URI;X-ADDRESS=Sigtunastiftelsen Manfred Björkqvists allé 4 Sigtuna 193 22;X-APPLE-RADIUS=500;X-TITLE=Manfred Björkqvists allé 4:geo:17.7101321,59.6158714
END:VEVENT
END:VCALENDAR