BEGIN:VCALENDAR
VERSION:2.0
PRODID:-//Gratis Uppsala - ECPv5.2.1//NONSGML v1.0//EN
CALSCALE:GREGORIAN
METHOD:PUBLISH
X-WR-CALNAME:Gratis Uppsala
X-ORIGINAL-URL:https://arkiv.gratisuppsala.se
X-WR-CALDESC:Händelser för Gratis Uppsala
BEGIN:VTIMEZONE
TZID:Europe/Stockholm
BEGIN:DAYLIGHT
TZOFFSETFROM:+0100
TZOFFSETTO:+0200
TZNAME:CEST
DTSTART:20150329T010000
END:DAYLIGHT
BEGIN:STANDARD
TZOFFSETFROM:+0200
TZOFFSETTO:+0100
TZNAME:CET
DTSTART:20151025T010000
END:STANDARD
END:VTIMEZONE
BEGIN:VEVENT
DTSTART;TZID=Europe/Stockholm:20150907T200000
DTEND;TZID=Europe/Stockholm:20150907T220000
DTSTAMP:20260420T064352
CREATED:20150820T083835Z
LAST-MODIFIED:20150904T114337Z
UID:3404-1441656000-1441663200@arkiv.gratisuppsala.se
SUMMARY:Att vara skådespelare\, Sofia Helin från Bron berättar
DESCRIPTION:Livsstilsseminarium i Sigtunastiftelsens bibliotek. \nSofia Helin\, känd från bland annat TV-serien Bron\, berättar om hur det är att vara skådespelare och hur hon jobbar för att gestalta sin karaktär. \nHon är just nu aktuell i tredje säsongen av tv-serien Bron. \nI samverkan med Sigtuna Folkhögskola \nFoto Johan Bavman (CC BY 2.0) \nDela evenemanget
URL:https://arkiv.gratisuppsala.se/event/att-vara-skadespelare/
LOCATION:Sigtunastiftelsen\, Manfred Björkquists allé 4\, Sigtuna\, Sverige
CATEGORIES:Föreläsning och Kurs,Teater och Bio
ATTACH;FMTTYPE=image/jpeg:https://arkiv.gratisuppsala.se/wp-content/uploads/2015/08/Sofia-Helin-Bron.jpg
GEO:59.6158714;17.7101321
X-APPLE-STRUCTURED-LOCATION;VALUE=URI;X-ADDRESS=Sigtunastiftelsen Manfred Björkquists allé 4 Sigtuna Sverige;X-APPLE-RADIUS=500;X-TITLE=Manfred Björkquists allé 4:geo:17.7101321,59.6158714
END:VEVENT
END:VCALENDAR