BEGIN:VCALENDAR
VERSION:2.0
PRODID:-//Gratis Uppsala - ECPv5.2.1//NONSGML v1.0//EN
CALSCALE:GREGORIAN
METHOD:PUBLISH
X-WR-CALNAME:Gratis Uppsala
X-ORIGINAL-URL:https://arkiv.gratisuppsala.se
X-WR-CALDESC:Händelser för Gratis Uppsala
BEGIN:VTIMEZONE
TZID:Europe/Stockholm
BEGIN:DAYLIGHT
TZOFFSETFROM:+0100
TZOFFSETTO:+0200
TZNAME:CEST
DTSTART:20160327T010000
END:DAYLIGHT
BEGIN:STANDARD
TZOFFSETFROM:+0200
TZOFFSETTO:+0100
TZNAME:CET
DTSTART:20161030T010000
END:STANDARD
END:VTIMEZONE
BEGIN:VEVENT
DTSTART;TZID=Europe/Stockholm:20160329T140000
DTEND;TZID=Europe/Stockholm:20160329T140000
DTSTAMP:20260419T200937
CREATED:20160321T101344Z
LAST-MODIFIED:20160321T101344Z
UID:6516-1459260000-1459260000@arkiv.gratisuppsala.se
SUMMARY:Äventyr
DESCRIPTION:Var med och spela Äventyr\, ett spännande sagospel för dig som är mellan 7-9 år.\nVill du vara en prinsessa\, en riddare\, en hjältinna eller kanske en trollkarl? \nTisdag 29 mars kl 13 på Stenhagenbiblioteket. \nFöranmälan till biblioteket\, telefonnummer 018-7278830. Begränsat antal platser. Fri entré! \nBild: bibliotekuppsala.se. \nDela evenemanget
URL:https://arkiv.gratisuppsala.se/event/aventyr/
LOCATION:Stenhagenbiblioteket\, Herrhagsvägen 8\, Uppsala
CATEGORIES:Påsklov
ATTACH;FMTTYPE=image/jpeg:https://arkiv.gratisuppsala.se/wp-content/uploads/2016/03/Äventyr.jpg
ORGANIZER;CN="Bibliotek%20Uppsala":MAILTO:kundtjanst@bibliotekuppsala.se
END:VEVENT
END:VCALENDAR