BEGIN:VCALENDAR
VERSION:2.0
PRODID:-//Gratis Uppsala - ECPv5.2.1//NONSGML v1.0//EN
CALSCALE:GREGORIAN
METHOD:PUBLISH
X-WR-CALNAME:Gratis Uppsala
X-ORIGINAL-URL:https://arkiv.gratisuppsala.se
X-WR-CALDESC:Händelser för Gratis Uppsala
BEGIN:VTIMEZONE
TZID:Europe/Stockholm
BEGIN:DAYLIGHT
TZOFFSETFROM:+0100
TZOFFSETTO:+0200
TZNAME:CEST
DTSTART:20180325T010000
END:DAYLIGHT
BEGIN:STANDARD
TZOFFSETFROM:+0200
TZOFFSETTO:+0100
TZNAME:CET
DTSTART:20181028T010000
END:STANDARD
END:VTIMEZONE
BEGIN:VEVENT
DTSTART;TZID=Europe/Stockholm:20181008T150000
DTEND;TZID=Europe/Stockholm:20181008T160000
DTSTAMP:20260420T120228
CREATED:20181015T191746Z
LAST-MODIFIED:20200209T145249Z
UID:30151-1539010800-1539014400@arkiv.gratisuppsala.se
SUMMARY:Babyrytmik på Storvretabiblioteket
DESCRIPTION:Babyrytmik på Storvretabiblioteket\nKom på babyrytmik på Storvretabiblioteket. Sjung\, spela\, dansa och ramsa med ditt barn 0–12 mån. Med Liselotte Beverlöv. \nDatum: Måndagarna 8 oktober\, 22 oktober och 5 november\, 2018\nTid: 15.00\nPlats: Storvretabiblioteket\nÅlder: För dig med barn 0–12 mån\nPris: Gratis \n\nBesök gärna länkarna nedan (externa länkar öppnas i nytt fönster/flik).\nStorvretabiblioteket | Kommande event med sång och musik \nFoto: David D via Flickr (CC-BY) \nDela evenemanget
URL:https://arkiv.gratisuppsala.se/event/babyrytmik-storvretabiblioteket-ht18/2018-10-08/
LOCATION:Storvretabiblioteket\, Fullerövägen 1\, Storvreta\, Sverige
CATEGORIES:Dans,Familj,Litteratur och Poesi,Sång och Musik,Ungdom,Vuxen
ATTACH;FMTTYPE=image/jpeg:https://arkiv.gratisuppsala.se/wp-content/uploads/2018/09/14033204245_e8b6daf9f5_k-e1539633798669.jpg
END:VEVENT
END:VCALENDAR