BEGIN:VCALENDAR
VERSION:2.0
PRODID:-//Gratis Uppsala - ECPv5.2.1//NONSGML v1.0//EN
CALSCALE:GREGORIAN
METHOD:PUBLISH
X-WR-CALNAME:Gratis Uppsala
X-ORIGINAL-URL:https://arkiv.gratisuppsala.se
X-WR-CALDESC:Händelser för Gratis Uppsala
BEGIN:VTIMEZONE
TZID:Europe/Stockholm
BEGIN:DAYLIGHT
TZOFFSETFROM:+0100
TZOFFSETTO:+0200
TZNAME:CEST
DTSTART:20170326T010000
END:DAYLIGHT
BEGIN:STANDARD
TZOFFSETFROM:+0200
TZOFFSETTO:+0100
TZNAME:CET
DTSTART:20171029T010000
END:STANDARD
END:VTIMEZONE
BEGIN:VEVENT
DTSTART;TZID=Europe/Stockholm:20170217T133000
DTEND;TZID=Europe/Stockholm:20170217T150000
DTSTAMP:20260420T141302
CREATED:20170207T095055Z
LAST-MODIFIED:20170210T144211Z
UID:11227-1487338200-1487343600@arkiv.gratisuppsala.se
SUMMARY:Babyvisningar på Bror Hjorts Hus
DESCRIPTION:Babyvisningar är till för dig som är föräldraledig eller tar hand om ett litet barn. Visningarna går i lite lugnare tempo och tål joller\, byten och matpauser. \nGuiden visar dig och ditt barn våra aktuella tillfälliga utställningar.\nFri entré. \nVårens babyvisningar\, följande fredagar kl. 13.30 \n\n17 februari  Jan Svenungsson\n17 mars Jan Svenungsson\n21 april Anna Höglund\n19 maj Anna Höglund\n\nÖppen verkstad för små och stora\nEfter visningarna öppnar vi verkstaden för små och stora kl 14-16.\nVarje gång arbetar vi med ett material och berättar om hur du kan uppmuntra ditt barns bildarbete.\nAnmäl er i kassan. Gratis. \n  \nBild från pixabay.com \nDela evenemanget
URL:https://arkiv.gratisuppsala.se/event/babyvisningar/2017-02-17/
LOCATION:Bror Hjorths Hus\, Norbyvägen 26\, Uppsala\, 752 39\, Sverige
CATEGORIES:Konst, Fotografi och Design,Prova-på,Utställning,Workshop
ATTACH;FMTTYPE=image/jpeg:https://arkiv.gratisuppsala.se/wp-content/uploads/2017/01/parents-and-children-1794951_960_720.jpg
ORGANIZER;CN="Bror%20Hjorths%20Hus":MAILTO:info@brorhjorthshus.se
END:VEVENT
END:VCALENDAR