BEGIN:VCALENDAR
VERSION:2.0
PRODID:-//Gratis Uppsala - ECPv5.2.1//NONSGML v1.0//EN
CALSCALE:GREGORIAN
METHOD:PUBLISH
X-WR-CALNAME:Gratis Uppsala
X-ORIGINAL-URL:https://arkiv.gratisuppsala.se
X-WR-CALDESC:Händelser för Gratis Uppsala
BEGIN:VTIMEZONE
TZID:Europe/Stockholm
BEGIN:DAYLIGHT
TZOFFSETFROM:+0100
TZOFFSETTO:+0200
TZNAME:CEST
DTSTART:20150329T010000
END:DAYLIGHT
BEGIN:STANDARD
TZOFFSETFROM:+0200
TZOFFSETTO:+0100
TZNAME:CET
DTSTART:20151025T010000
END:STANDARD
END:VTIMEZONE
BEGIN:VEVENT
DTSTART;TZID=Europe/Stockholm:20151003T120000
DTEND;TZID=Europe/Stockholm:20151003T170000
DTSTAMP:20260421T165207
CREATED:20150930T113355Z
LAST-MODIFIED:20150930T113355Z
UID:4016-1443873600-1443891600@arkiv.gratisuppsala.se
SUMMARY:Barndagen på Erikshjälpen
DESCRIPTION:Det blir gratis ansiksmålning\, fiskdamm\, sångstund kl. 12.00 och 14.00 med Stina Pettersson. \nSaft och bullar till alla barn. Alla intäkter under dagen går till Världens barn. \nDela evenemanget
URL:https://arkiv.gratisuppsala.se/event/barndagen-pa-erikshjalpen/
LOCATION:Erikshjälpen\, Bolandsgatan 8A\, Uppsala\, 753 23\, Sverige
CATEGORIES:Marknad & Loppis,Sång och Musik
ORGANIZER;CN="Erikshj%C3%A4lpen":MAILTO:uppsala@erikshjalpen.se
END:VEVENT
END:VCALENDAR