BEGIN:VCALENDAR
VERSION:2.0
PRODID:-//Gratis Uppsala - ECPv5.2.1//NONSGML v1.0//EN
CALSCALE:GREGORIAN
METHOD:PUBLISH
X-WR-CALNAME:Gratis Uppsala
X-ORIGINAL-URL:https://arkiv.gratisuppsala.se
X-WR-CALDESC:Händelser för Gratis Uppsala
BEGIN:VTIMEZONE
TZID:Europe/Stockholm
BEGIN:DAYLIGHT
TZOFFSETFROM:+0100
TZOFFSETTO:+0200
TZNAME:CEST
DTSTART:20190331T010000
END:DAYLIGHT
BEGIN:STANDARD
TZOFFSETFROM:+0200
TZOFFSETTO:+0100
TZNAME:CET
DTSTART:20191027T010000
END:STANDARD
END:VTIMEZONE
BEGIN:VEVENT
DTSTART;TZID=Europe/Stockholm:20191118T090000
DTEND;TZID=Europe/Stockholm:20191118T210000
DTSTAMP:20260420T190652
CREATED:20191114T085120Z
LAST-MODIFIED:20191114T101511Z
UID:39084-1574067600-1574110800@arkiv.gratisuppsala.se
SUMMARY:Barnens teckningar | Heby bibliotek
DESCRIPTION:Barnens teckningar | Heby bibliotek\nUnder den mörkaste tiden på året välkomnar Heby bibliotek dig till att låta tillvaron lysas upp av barnens teckningar från förskolor och skolor. Teckningarna kommer pryda biblioteket hela vägen fram till jul. \nDatum: Måndagen den 18 november 2019\nTid: 09:00-21:00\nPlats: Heby bibliotek\, Kyrkogatan 2  744 31 Heby\nÅlder: Från 3 år\nPris: Fri Entré\nÖppettider:  \nMåndag: 09:00-21:00\nTisdag: 09:00-21:00\nOnsdag: 09:00-21:00\nTorsdag: 09:00-21:00\nFredag: 09:00-21:00\nLördag: 09:00-21:00\nSöndag: 09:00-21:00 \nArrangör: Heby bibliotek \n\nOm Heby bibliotek\nHeby bibliotek ligger i hjärtat av Heby. Där finns sköna soffor\, kaffeautomat och medier att låna av alla dess slag. Det finns också olika evenemang\, kurser och utställningar. Dessutom håller Heby bibliotek meröppet\, som det första biblioteket i Uppsala län. Det är man stolt över\, eftersom det betyder mer service och tillgänglighet för låntagarna. \n\nBesök gärna länkarna nedan (externa länkar öppnas i ett nytt fönster/flik).\nJulutställning på Heby Bibliotek | Kommande event inom uppvisning \nFoto: Pixabay \nDela evenemanget
URL:https://arkiv.gratisuppsala.se/event/barnens-teckningar-heby-bibliotek/2019-11-18/
LOCATION:Heby bibliotek\, Kyrkogatan 2\, Heby
CATEGORIES:Ålderskategori,Barn,Familj,Geografisk kategori,Heby Kommun,Ungdom,Uppvisning,Vuxen
ATTACH;FMTTYPE=image/jpeg:https://arkiv.gratisuppsala.se/wp-content/uploads/2019/10/felt-tip-pens-3402885_1280-e1572434763491.jpg
ORGANIZER;CN="Heby%20bibliotek":MAILTO:heby.bibliotek@heby.se
GEO:59.9388991;16.8602971
X-APPLE-STRUCTURED-LOCATION;VALUE=URI;X-ADDRESS=Heby bibliotek Kyrkogatan 2 Heby;X-APPLE-RADIUS=500;X-TITLE=Kyrkogatan 2:geo:16.8602971,59.9388991
END:VEVENT
END:VCALENDAR