BEGIN:VCALENDAR
VERSION:2.0
PRODID:-//Gratis Uppsala - ECPv5.2.1//NONSGML v1.0//EN
CALSCALE:GREGORIAN
METHOD:PUBLISH
X-WR-CALNAME:Gratis Uppsala
X-ORIGINAL-URL:https://arkiv.gratisuppsala.se
X-WR-CALDESC:Händelser för Gratis Uppsala
BEGIN:VTIMEZONE
TZID:Europe/Stockholm
BEGIN:DAYLIGHT
TZOFFSETFROM:+0100
TZOFFSETTO:+0200
TZNAME:CEST
DTSTART:20170326T010000
END:DAYLIGHT
BEGIN:STANDARD
TZOFFSETFROM:+0200
TZOFFSETTO:+0100
TZNAME:CET
DTSTART:20171029T010000
END:STANDARD
END:VTIMEZONE
BEGIN:VEVENT
DTSTART;TZID=Europe/Stockholm:20170122T130000
DTEND;TZID=Europe/Stockholm:20170122T160000
DTSTAMP:20260420T210022
CREATED:20170118T095413Z
LAST-MODIFIED:20170118T100037Z
UID:10640-1485090000-1485100800@arkiv.gratisuppsala.se
SUMMARY:Barnens Vasalopp i Uppsala - årets skidlopp!
DESCRIPTION:Årets roligaste skidlopp – Barnens Vasalopp i Uppsala! \nAlla barn får möjligheten att testa på längdskidåkning\, utrustning kan lånas helt gratis.\nDet bjuds på blåbärssoppa och en liten grej till alla som kör. \nAtt röra på sig är roligt och viktigt och det är bra att börja tidigt. Barnens Vasalopp skidor är ett initiativ från Vasaloppet och Svenska Skidförbundet som syftar till att inspirera barn och lägga grunden till en hälsosam livsstil. Vasaloppet ihop med samarbetspartnerna ICA\, Stadium\, Sporrong och alla andra arrangörer runt om i landet engageras över 40 000 barn i något av loppen varje år. \nBarnens Vasalopp skidor består av en nationell turné anordnad av Vasaloppet samt en mängd lokala lopp där vem som helst får vara arrangör. \nVar? Vid Stadium i Boländerna\, Uppsala.\nNär? Söndag 22 januari kl 13–16. \nFoto: barnensvasalopp.se. \nDela evenemanget
URL:https://arkiv.gratisuppsala.se/event/barnens-vasalopp-uppsala-arets-skidlopp/
LOCATION:Stadium Boländerna\, Rapsgatan 5\, 75323\, Sverige
CATEGORIES:Sport & Motion
ATTACH;FMTTYPE=image/jpeg:https://arkiv.gratisuppsala.se/wp-content/uploads/2017/01/barnens_vasalopp.jpg
GEO:59.8470902;17.6934357
X-APPLE-STRUCTURED-LOCATION;VALUE=URI;X-ADDRESS=Stadium Boländerna Rapsgatan 5 75323 Sverige;X-APPLE-RADIUS=500;X-TITLE=Rapsgatan 5:geo:17.6934357,59.8470902
END:VEVENT
END:VCALENDAR