BEGIN:VCALENDAR
VERSION:2.0
PRODID:-//Gratis Uppsala - ECPv5.2.1//NONSGML v1.0//EN
CALSCALE:GREGORIAN
METHOD:PUBLISH
X-WR-CALNAME:Gratis Uppsala
X-ORIGINAL-URL:https://arkiv.gratisuppsala.se
X-WR-CALDESC:Händelser för Gratis Uppsala
BEGIN:VTIMEZONE
TZID:Europe/Stockholm
BEGIN:DAYLIGHT
TZOFFSETFROM:+0100
TZOFFSETTO:+0200
TZNAME:CEST
DTSTART:20170326T010000
END:DAYLIGHT
BEGIN:STANDARD
TZOFFSETFROM:+0200
TZOFFSETTO:+0100
TZNAME:CET
DTSTART:20171029T010000
END:STANDARD
END:VTIMEZONE
BEGIN:VEVENT
DTSTART;TZID=Europe/Stockholm:20170318T103000
DTEND;TZID=Europe/Stockholm:20170318T103000
DTSTAMP:20260420T143815
CREATED:20170308T132002Z
LAST-MODIFIED:20170308T132002Z
UID:12376-1489833000-1489833000@arkiv.gratisuppsala.se
SUMMARY:Barnföreställningen The Gothenburg Combo - Jorden runt med två gitarrer
DESCRIPTION:Upplev en spännande barnföreställning om världens musik på biblioteket i Skutskär\nDavid och Thomas älskar att leka. Men mest av allt älskar de musik och att spela gitarr! Och de har en fråga: hur låter världens musik? \nI ett bildspel fullt av djur\, barn och människor från olika delar av vår jord får vi Skype-kontakt. Vet flodhästen hur världens musik låter i Afrika? Vet fru Pingvin hur världens musik låter på Antarktis? Och vad håller den luriga herr Björn på med egentligen? \nVi får höra musik komponerad av David och Thomas ”The Seven Continents” men också musik av Bach\, Villa-Lobos\, Rossini och förstås Herr Björns sång som alla gosedjur och barn kan sjunga med i. \nTvå världsartister spelar gitarr så att man nästan inte tror att det är på riktigt. \nTa gärna med eget gosedjur! Ålder 3-6 år. \nTid och plats \nLördag 18 mars kl 10:30 \nBiblioteket i Skutskär \nBilden hämtad från pixabay.com \nDela evenemanget
URL:https://arkiv.gratisuppsala.se/event/barnforestallningen-gothenburg-combo-jorden-runt-med-tva-gitarrer/
LOCATION:Sverige
CATEGORIES:Litteratur och Poesi,Sång och Musik
ATTACH;FMTTYPE=image/jpeg:https://arkiv.gratisuppsala.se/wp-content/uploads/2017/03/gitarr.jpg
END:VEVENT
END:VCALENDAR