BEGIN:VCALENDAR
VERSION:2.0
PRODID:-//Gratis Uppsala - ECPv5.2.1//NONSGML v1.0//EN
CALSCALE:GREGORIAN
METHOD:PUBLISH
X-WR-CALNAME:Gratis Uppsala
X-ORIGINAL-URL:https://arkiv.gratisuppsala.se
X-WR-CALDESC:Händelser för Gratis Uppsala
BEGIN:VTIMEZONE
TZID:Europe/Stockholm
BEGIN:DAYLIGHT
TZOFFSETFROM:+0100
TZOFFSETTO:+0200
TZNAME:CEST
DTSTART:20160327T010000
END:DAYLIGHT
BEGIN:STANDARD
TZOFFSETFROM:+0200
TZOFFSETTO:+0100
TZNAME:CET
DTSTART:20161030T010000
END:STANDARD
END:VTIMEZONE
BEGIN:VEVENT
DTSTART;TZID=Europe/Stockholm:20160730T150000
DTEND;TZID=Europe/Stockholm:20160730T160000
DTSTAMP:20260420T081140
CREATED:20160729T071051Z
LAST-MODIFIED:20160729T071051Z
UID:7871-1469890800-1469894400@arkiv.gratisuppsala.se
SUMMARY:Barnteater; Varför gråter pappan?
DESCRIPTION:Vad är det som händer!? Utanför staketet sitter en pappa och gråter.\nVarför gör han det? undrar Alvdis och Hamsa.\nHar någon varit dum? Eller är han bara trött?\nHan kanske har tappat bort något? Cyklat omkull?\nEller så har han bara ätit alldeles för mycket! \nVarför gråter pappan? är en rolig och lekfull föreställning som tar med barnen på en detektivresa genom de stora känslornas landskap. Vad finns det för anledning till gråt? Med Alvdis och Hamsa får det roliga vara roligt och det svåra vara svårt. \nFöreställningen bygger på boken med samma namn\, skriven av Kristina Murray Brodin. \nKostnadsfri barnteater från 3 år. Välkommen alla barn och vuxna! \nNär: 30 juli kl 14-15 \nVar: Särstabadet i Knivsta \nBild hämtad från Bananteaterns hemsida \nDela evenemanget
URL:https://arkiv.gratisuppsala.se/event/barnteater-varfor-grater-pappan/
LOCATION:Särstabadet\, Valloxvägen 27\, Knivsta\, 74142\, Sverige
CATEGORIES:Teater och Bio
ATTACH;FMTTYPE=image/jpeg:https://arkiv.gratisuppsala.se/wp-content/uploads/2016/07/Varför-gråter-pappan.jpg
ORGANIZER;CN="Knivsta%20Kommun":MAILTO:knivsta@knivsta.se 
GEO:59.7241128;17.8037703
X-APPLE-STRUCTURED-LOCATION;VALUE=URI;X-ADDRESS=Särstabadet Valloxvägen 27 Knivsta 74142 Sverige;X-APPLE-RADIUS=500;X-TITLE=Valloxvägen 27:geo:17.8037703,59.7241128
END:VEVENT
END:VCALENDAR