BEGIN:VCALENDAR
VERSION:2.0
PRODID:-//Gratis Uppsala - ECPv5.2.1//NONSGML v1.0//EN
CALSCALE:GREGORIAN
METHOD:PUBLISH
X-WR-CALNAME:Gratis Uppsala
X-ORIGINAL-URL:https://arkiv.gratisuppsala.se
X-WR-CALDESC:Händelser för Gratis Uppsala
BEGIN:VTIMEZONE
TZID:Europe/Stockholm
BEGIN:DAYLIGHT
TZOFFSETFROM:+0100
TZOFFSETTO:+0200
TZNAME:CEST
DTSTART:20170326T010000
END:DAYLIGHT
BEGIN:STANDARD
TZOFFSETFROM:+0200
TZOFFSETTO:+0100
TZNAME:CET
DTSTART:20171029T010000
END:STANDARD
END:VTIMEZONE
BEGIN:VEVENT
DTSTART;TZID=Europe/Stockholm:20170924T150000
DTEND;TZID=Europe/Stockholm:20170924T160000
DTSTAMP:20260423T230635
CREATED:20170920T074722Z
LAST-MODIFIED:20170920T075406Z
UID:18469-1506265200-1506268800@arkiv.gratisuppsala.se
SUMMARY:Barnvisor från sagornas värld - sångstund med Emma D Haglund
DESCRIPTION:Barnvisor från sagornas värld\nKom och sjung sånger om Pippi\, Babblarna\, Mamma Mu och många fler.\nLogoped och musiker Emma Dahlin Haglund spelar och sjunger med barnen i åldrarna 0-5 år. \nFöräldrar och barn får chans att prova på Tecken som stöd och kan efter sångstunden ställa frågor om barnspråk och läsning. \nObs! Gratisbiljetter kan hämtas/bokas tidigast en vecka innan varje sångstund. \nNär: Söndagar 24 september\, 15 oktober\, 12 november och 26 november klockan 14.00-15.00\nPlats: Stadsbiblioteket\, Skattkammaren \nFör att läsa mer om eventet gå in på eventets Facebooksida här\, alt Stadsbibliotekets hemsida här. \n  \nBild från wikimedia.org \nDela evenemanget
URL:https://arkiv.gratisuppsala.se/event/barnvisor-fran-sagornas-varld-sangstund-med-emma-d-haglund/2017-09-24/
LOCATION:Stadsbiblioteket\, Svartbäcksgatan 17\, Uppsala\, 75320\, Sverige
CATEGORIES:Litteratur och Poesi,Sång och Musik
ATTACH;FMTTYPE=image/jpeg:https://arkiv.gratisuppsala.se/wp-content/uploads/2017/09/Klas-Klättermus.jpg
GEO:59.8606206;17.6353278
X-APPLE-STRUCTURED-LOCATION;VALUE=URI;X-ADDRESS=Stadsbiblioteket Svartbäcksgatan 17 Uppsala 75320 Sverige;X-APPLE-RADIUS=500;X-TITLE=Svartbäcksgatan 17:geo:17.6353278,59.8606206
END:VEVENT
END:VCALENDAR