BEGIN:VCALENDAR
VERSION:2.0
PRODID:-//Gratis Uppsala - ECPv5.2.1//NONSGML v1.0//EN
CALSCALE:GREGORIAN
METHOD:PUBLISH
X-WR-CALNAME:Gratis Uppsala
X-ORIGINAL-URL:https://arkiv.gratisuppsala.se
X-WR-CALDESC:Händelser för Gratis Uppsala
BEGIN:VTIMEZONE
TZID:Europe/Stockholm
BEGIN:DAYLIGHT
TZOFFSETFROM:+0100
TZOFFSETTO:+0200
TZNAME:CEST
DTSTART:20150329T010000
END:DAYLIGHT
BEGIN:STANDARD
TZOFFSETFROM:+0200
TZOFFSETTO:+0100
TZNAME:CET
DTSTART:20151025T010000
END:STANDARD
END:VTIMEZONE
BEGIN:VEVENT
DTSTART;TZID=Europe/Stockholm:20150907T140000
DTEND;TZID=Europe/Stockholm:20150907T163000
DTSTAMP:20260420T081456
CREATED:20150903T073850Z
LAST-MODIFIED:20150907T112158Z
UID:3558-1441634400-1441643400@arkiv.gratisuppsala.se
SUMMARY:Basargruppen
DESCRIPTION:Måndag 7 sept. 2015\, kl. 13.00. Träff med Basargruppen. Vi träffas en gång i veckan för att tillverka vackra saker till den årliga julbasaren. Det är en uppskattad och social verksamhet där det dricks kaffe och pratas över broderier och stickning. Hör av dig till oss om du är intresserad av handarbete och vill träffa andra medan du stickar\, väver\, broderar eller annat! \nDela evenemanget
URL:https://arkiv.gratisuppsala.se/event/basargruppen/
LOCATION:Fyrisgården\, Svartbäcksgatan 58\, Uppsala\, 753 33\, Sverige
ATTACH;FMTTYPE=image/jpeg:https://arkiv.gratisuppsala.se/wp-content/uploads/2015/08/Nystan.jpg
ORGANIZER;CN="Fyrisg%C3%A5rden":MAILTO:exp@fyrisgarden.se
GEO:59.8679005;17.625502
X-APPLE-STRUCTURED-LOCATION;VALUE=URI;X-ADDRESS=Fyrisgården Svartbäcksgatan 58 Uppsala 753 33 Sverige;X-APPLE-RADIUS=500;X-TITLE=Svartbäcksgatan 58:geo:17.625502,59.8679005
END:VEVENT
END:VCALENDAR