BEGIN:VCALENDAR
VERSION:2.0
PRODID:-//Gratis Uppsala - ECPv5.2.1//NONSGML v1.0//EN
CALSCALE:GREGORIAN
METHOD:PUBLISH
X-WR-CALNAME:Gratis Uppsala
X-ORIGINAL-URL:https://arkiv.gratisuppsala.se
X-WR-CALDESC:Händelser för Gratis Uppsala
BEGIN:VTIMEZONE
TZID:Europe/Stockholm
BEGIN:STANDARD
TZOFFSETFROM:+0100
TZOFFSETTO:+0100
TZNAME:CET
DTSTART:20170101T000000
END:STANDARD
END:VTIMEZONE
BEGIN:VEVENT
DTSTART;VALUE=DATE:20170216
DTEND;VALUE=DATE:20161213
DTSTAMP:20260420T170649
CREATED:20161212T134316Z
LAST-MODIFIED:20161212T134316Z
UID:9778-1487203200-1481587199@arkiv.gratisuppsala.se
SUMMARY:Bästa berättelsen
DESCRIPTION:En halvtimmes högläsning av okänd röst och okänd text. \nDela evenemanget
URL:https://arkiv.gratisuppsala.se/event/basta-berattelsen-3/
LOCATION:Knivsta Bibliotek\, Centralvägen 18\, Knivsta\, Knivsta\, 74140\, Sverige
CATEGORIES:Litteratur och Poesi
GEO:59.7276919;17.7857802
X-APPLE-STRUCTURED-LOCATION;VALUE=URI;X-ADDRESS=Knivsta Bibliotek Centralvägen 18 Knivsta Knivsta 74140 Sverige;X-APPLE-RADIUS=500;X-TITLE=Centralvägen 18:geo:17.7857802,59.7276919
END:VEVENT
END:VCALENDAR