BEGIN:VCALENDAR
VERSION:2.0
PRODID:-//Gratis Uppsala - ECPv5.2.1//NONSGML v1.0//EN
CALSCALE:GREGORIAN
METHOD:PUBLISH
X-WR-CALNAME:Gratis Uppsala
X-ORIGINAL-URL:https://arkiv.gratisuppsala.se
X-WR-CALDESC:Händelser för Gratis Uppsala
BEGIN:VTIMEZONE
TZID:Europe/Stockholm
BEGIN:DAYLIGHT
TZOFFSETFROM:+0100
TZOFFSETTO:+0200
TZNAME:CEST
DTSTART:20160327T010000
END:DAYLIGHT
BEGIN:STANDARD
TZOFFSETFROM:+0200
TZOFFSETTO:+0100
TZNAME:CET
DTSTART:20161030T010000
END:STANDARD
END:VTIMEZONE
BEGIN:VEVENT
DTSTART;TZID=Europe/Stockholm:20160425T200000
DTEND;TZID=Europe/Stockholm:20160425T210000
DTSTAMP:20260420T064057
CREATED:20160414T105625Z
LAST-MODIFIED:20160425T064355Z
UID:6733-1461614400-1461618000@arkiv.gratisuppsala.se
SUMMARY:Beatles forever!
DESCRIPTION:Beatles forver! Odödlig musik framförs av Uppblåset och kören Notabelles.\nGäst: Kurt Nilsson. \nMåndag 25 april kl 19-20 i Nannaskolans aula. \nFritt inträde! \nBild: pixabay.com. \nDela evenemanget
URL:https://arkiv.gratisuppsala.se/event/beatles-forever/
LOCATION:Nannaskolans aula\, Kungsgatan 22\, Uppsala
CATEGORIES:Sång och Musik
ATTACH;FMTTYPE=image/jpeg:https://arkiv.gratisuppsala.se/wp-content/uploads/2016/04/Beatles_dockor.jpg
GEO:59.8618041;17.6382146
X-APPLE-STRUCTURED-LOCATION;VALUE=URI;X-ADDRESS=Nannaskolans aula Kungsgatan 22 Uppsala;X-APPLE-RADIUS=500;X-TITLE=Kungsgatan 22:geo:17.6382146,59.8618041
END:VEVENT
END:VCALENDAR