BEGIN:VCALENDAR
VERSION:2.0
PRODID:-//Gratis Uppsala - ECPv5.2.1//NONSGML v1.0//EN
CALSCALE:GREGORIAN
METHOD:PUBLISH
X-WR-CALNAME:Gratis Uppsala
X-ORIGINAL-URL:https://arkiv.gratisuppsala.se
X-WR-CALDESC:Händelser för Gratis Uppsala
BEGIN:VTIMEZONE
TZID:Europe/Stockholm
BEGIN:DAYLIGHT
TZOFFSETFROM:+0100
TZOFFSETTO:+0200
TZNAME:CEST
DTSTART:20150329T010000
END:DAYLIGHT
BEGIN:STANDARD
TZOFFSETFROM:+0200
TZOFFSETTO:+0100
TZNAME:CET
DTSTART:20151025T010000
END:STANDARD
END:VTIMEZONE
BEGIN:VEVENT
DTSTART;TZID=Europe/Stockholm:20151022T200000
DTEND;TZID=Europe/Stockholm:20151022T200000
DTSTAMP:20260419T213805
CREATED:20150923T081815Z
LAST-MODIFIED:20150923T102609Z
UID:3887-1445544000-1445544000@arkiv.gratisuppsala.se
SUMMARY:Berörd av beroende -föreläsning
DESCRIPTION:Se mig\, hör mig\, visa mig!\nFöreläsning i Salabackekyrkan \nFritt inträde! \nAdress: Lästmakargatan 7 B. \nFöreläsningen börjar kl 19.00. Fika till självkostnadspris från 18.30. \nJohan Viktor och Mikael Spreitz\, kända från TV och film\, kommer och berättar om vikten av att ha närvarande föräldrar för barn och ungdomar. De berättar om vad de har gått igenom under åren med allt från slagsmål till kriminalitet och fängelse och hur de har vänt livet och vill dela med sig av sina erfarenheter. \nBerörd av beroende -föreläsning genomförs i samverkan mellan Vaksala församling\, Diakonins hus och Sensus studieförbund. \n  \n  \nDela evenemanget
URL:https://arkiv.gratisuppsala.se/event/berord-av-beroende-forelasning-2/
LOCATION:Sverige
CATEGORIES:Föreläsning och Kurs
ATTACH;FMTTYPE=image/jpeg:https://arkiv.gratisuppsala.se/wp-content/uploads/2015/09/imgres4.jpg
END:VEVENT
END:VCALENDAR