BEGIN:VCALENDAR
VERSION:2.0
PRODID:-//Gratis Uppsala - ECPv5.2.1//NONSGML v1.0//EN
CALSCALE:GREGORIAN
METHOD:PUBLISH
X-WR-CALNAME:Gratis Uppsala
X-ORIGINAL-URL:https://arkiv.gratisuppsala.se
X-WR-CALDESC:Händelser för Gratis Uppsala
BEGIN:VTIMEZONE
TZID:Europe/Stockholm
BEGIN:DAYLIGHT
TZOFFSETFROM:+0100
TZOFFSETTO:+0200
TZNAME:CEST
DTSTART:20150329T010000
END:DAYLIGHT
BEGIN:STANDARD
TZOFFSETFROM:+0200
TZOFFSETTO:+0100
TZNAME:CET
DTSTART:20151025T010000
END:STANDARD
END:VTIMEZONE
BEGIN:VEVENT
DTSTART;TZID=Europe/Stockholm:20150924T200000
DTEND;TZID=Europe/Stockholm:20150924T200000
DTSTAMP:20260420T034251
CREATED:20150923T080320Z
LAST-MODIFIED:20150923T105106Z
UID:3882-1443124800-1443124800@arkiv.gratisuppsala.se
SUMMARY:Berörd av beroende -föreläsning
DESCRIPTION:Bara en hundring till… – om spelberoende\nFöreläsning i Salabackekyrkan \nFritt inträde! \nAdress: Lästmakargatan 7 B. \nFöreläsningen börjar kl 19.00. Fika till självkostnadspris från 18.30. \nEwa-Karin Ottoson\, leg sjuksköterska\, KBT-terapeut och grundare av Spelberoende-centrum i Uppsala\, talar om hur allt fler och fler unga människor fastnar i beroendet ”spel om pengar” Idag är det över 2 % av svenska folket som har spelproblem. \nHur kan vi hjälpa enskilda i vår omgivning? Hur drabbas de anhöriga? \nBerörd av beroende -föreläsning genomförs i samverkan mellan Vaksala församling\, Diakonins hus och Sensus studieförbund. \n  \n  \nDela evenemanget
URL:https://arkiv.gratisuppsala.se/event/berord-av-beroende-forelasning/
LOCATION:Salabackekyrkan\, Lästmakargatan 7B\, Uppsala\, 75434\, Sverige
CATEGORIES:Föreläsning och Kurs
ATTACH;FMTTYPE=image/jpeg:https://arkiv.gratisuppsala.se/wp-content/uploads/2015/09/imgres3.jpg
END:VEVENT
END:VCALENDAR